BEGIN:VCALENDAR
VERSION:2.0
PRODID:-//ortenaukultur.de//NONSGML kigkonsult.se iCalcreator 2.41.92//
CALSCALE:GREGORIAN
METHOD:PUBLISH
UID:32616633-3830-4964-b835-323137623264
X-WR-TIMEZONE:Europe/Berlin
X-LIC-LOCATION:Europe/Berlin
BEGIN:VEVENT
UID:465222-kulturportal@ortenaukultur.de
DTSTAMP:20260422T092211Z
DESCRIPTION:Kurzbeschreibung:\n Mittelalterliches Flair und Markt auf der B
 urgruine Hohengeroldseck. Beim Einlass in die Burganlage ist ein Wegzoll z
 u entrichten.\n Ort:\n Burgruine Hohengeroldseck\n Schlossberg\, 77960 See
 lbach - Schönberg\n Veranstalter:\n Gemeinde Seelbach\n Termin:\n Beginn: 
 06.09.2026\, 11:00 Uhr\n Ende: 06.09.2026\n Tickets:\n Eintritt:\n Erwachs
 ene 4\,00 €\n Schüler\,Studenten mit Ausweis 3\,00 €\n Kinder bis 15 Jahre
  frei\n \n Link:\n Page détaillée
DTSTART;TZID=Europe/Berlin:20260906T110000
DTEND;TZID=Europe/Berlin:20260906T140000
LOCATION:Burgruine Hohengeroldseck\, Schlossberg\, 77960 Seelbach - Schönbe
 rg
SUMMARY:Burgfest auf der Burgruine Hohengeroldseck \, Burgruine Hohengerold
 seck
X-ALT-DESC;FMTTYPE=text/html:<strong>Kurzbeschreibung:</strong><br/>Mittela
 lterliches Flair und Markt auf der Burgruine Hohengeroldseck. Beim Einlass
  in die Burganlage ist ein Wegzoll zu entrichten.<br /><strong>Ort:</stron
 g><br/>Burgruine Hohengeroldseck<br/>Schlossberg\, 77960 Seelbach - Schönb
 erg<br /><strong>Veranstalter:</strong><br/>Gemeinde Seelbach<br /><strong
 >Termin:</strong><br/>Beginn: 06.09.2026\, 11:00 Uhr<br/>Ende: 06.09.2026<
 br /><strong>Tickets: </strong><br/>Eintritt: <br />\nErwachsene          
                    4\,00 €<br />\nSchüler\,Studenten mit Ausweis 3\,00 €<b
 r />\nKinder bis 15 Jahre frei<br />\n<br /><strong>Link:</strong><br/><a 
 href='https://ortenaukultur.de/fr/evenements/detail/evenement/id/465222-bu
 rgfest-auf-der-burgruine-hohengeroldseck/?vt=1'>Page détaillée </a>
END:VEVENT
END:VCALENDAR
