BEGIN:VCALENDAR
VERSION:2.0
PRODID:-//ortenaukultur.de//NONSGML kigkonsult.se iCalcreator 2.41.92//
CALSCALE:GREGORIAN
METHOD:PUBLISH
UID:32303663-3531-4837-b431-393061663936
X-WR-TIMEZONE:Europe/Berlin
X-LIC-LOCATION:Europe/Berlin
BEGIN:VEVENT
UID:509510-kulturportal@ortenaukultur.de
DTSTAMP:20260421T214942Z
DESCRIPTION:Kurzbeschreibung:\n Einer der sportlichen Höhepunkte des Jahres
  wird der Biberacher Straßenlauf sein.\n Ort:\n Sport- und Festhalle\n Bru
 cherstraße\, 77781 Biberach\n Veranstalter:\n Turnverein Biberach e.V.\n T
 ermin:\n Beginn: 25.04.2026\n Ende: 25.04.2026\n Link:\n Page détaillée
DTSTART;TZID=Europe/Berlin:20260425T000000
DTEND;TZID=Europe/Berlin:20260425T030000
LOCATION:Sport- und Festhalle\, Brucherstraße\, 77781 Biberach
SUMMARY:54. Biberacher Straßenlauf\, Sport- und Festhalle
X-ALT-DESC;FMTTYPE=text/html:<strong>Kurzbeschreibung:</strong><br/>Einer d
 er sportlichen Höhepunkte des Jahres wird der Biberacher Straßenlauf sein.
  <br /><strong>Ort:</strong><br/>Sport- und Festhalle<br/>Brucherstraße\, 
 77781 Biberach<br /><strong>Veranstalter:</strong><br/>Turnverein Biberach
  e.V.<br /><strong>Termin:</strong><br/>Beginn: 25.04.2026<br/>Ende: 25.04
 .2026<br /><strong>Link:</strong><br/><a href='https://ortenaukultur.de/fr
 /evenements/detail/evenement/id/509510-54-biberacher-strassenlauf/?vt=1'>P
 age détaillée </a>
END:VEVENT
END:VCALENDAR
