BEGIN:VCALENDAR
VERSION:2.0
PRODID:-//ortenaukultur.de//NONSGML kigkonsult.se iCalcreator 2.41.92//
CALSCALE:GREGORIAN
METHOD:PUBLISH
UID:37303038-3137-4363-b739-353035656634
X-WR-TIMEZONE:Europe/Berlin
X-LIC-LOCATION:Europe/Berlin
BEGIN:VEVENT
UID:511562-kulturportal@ortenaukultur.de
DTSTAMP:20260425T164350Z
DESCRIPTION:Kurzbeschreibung:\n Schwarzwälder Vesperspezialitäten\, fetzige
  Musik und Tanz\, das ist das Motto der Harmersbacher Heimatsommer.\n Ort:
 \n Rathausplatz\n Dorf 30\, 77784 Oberharmersbach\n Veranstalter:\n Touris
 t-Information Oberharmersbach\n Termin:\n Beginn: 01.07.2026\n Ende: 01.07
 .2026\n Tickets:\n Eintritt frei!\n Link:\n Page détaillée
DTSTART;TZID=Europe/Berlin:20260701T000000
DTEND;TZID=Europe/Berlin:20260701T030000
LOCATION:Rathausplatz\, Dorf 30\, 77784 Oberharmersbach
SUMMARY:Harmersbacher Heimatsommer\, Rathausplatz
X-ALT-DESC;FMTTYPE=text/html:<strong>Kurzbeschreibung:</strong><br/>Schwarz
 wälder Vesperspezialitäten\, fetzige Musik und Tanz\, das ist das Motto de
 r Harmersbacher Heimatsommer.<br /><strong>Ort:</strong><br/>Rathausplatz<
 br/>Dorf 30\, 77784 Oberharmersbach<br /><strong>Veranstalter:</strong><br
 />Tourist-Information Oberharmersbach<br /><strong>Termin:</strong><br/>Be
 ginn: 01.07.2026<br/>Ende: 01.07.2026<br /><strong>Tickets: </strong><br/>
 Eintritt frei!<br /><strong>Link:</strong><br/><a href='https://ortenaukul
 tur.de/fr/evenements/detail/evenement/id/511562-harmersbacher-heimatsommer
 /?vt=1'>Page détaillée </a>
END:VEVENT
END:VCALENDAR
