BEGIN:VCALENDAR
VERSION:2.0
PRODID:-//ortenaukultur.de//NONSGML kigkonsult.se iCalcreator 2.41.92//
CALSCALE:GREGORIAN
METHOD:PUBLISH
UID:37626338-3535-4736-b462-386265373032
X-WR-TIMEZONE:Europe/Berlin
X-LIC-LOCATION:Europe/Berlin
BEGIN:VEVENT
UID:514511-kulturportal@ortenaukultur.de
DTSTAMP:20260422T022917Z
DESCRIPTION:Kurzbeschreibung:\n Fachkundige Führung durch den zauberhaften 
 Stadtpark. Nicht nur die jahrhunderte alten Bäume haben viel zu erzählen\,
  die Gästeführer Ihnen auch.\n Ort:\n Stadtpark Lahr\, Treffpunkt Hauptein
 gang\, Kaiserstr. 103\n Kaiserstraße 107\, 77933 Lahr\n Veranstalter:\n St
 adt Lahr\n Termin:\n Beginn: 05.07.2026\, 15:00 Uhr\n Ende: 05.07.2026\n T
 ickets:\n \n https://erlebe.lahr.de/oeffentliche-fuehrungen-buchen.274465.
 htm#/experience/FIT00020072495524881\n Die Führung 5\,00 € pro Person + Pa
 rkeintritt (Erw. 4\,00 €\, Kinder 1\,50 €).\n Die Führung 60\,00€ pro Grup
 pe+ Parkeintritt / max. 25 Personen\n Ganzjährig individuell buchbar\n \n 
 Link:\n Page détaillée
DTSTART;TZID=Europe/Berlin:20260705T150000
DTEND;TZID=Europe/Berlin:20260705T180000
LOCATION:Stadtpark Lahr\, Treffpunkt Haupteingang\, Kaiserstr. 103\, Kaiser
 straße 107\, 77933 Lahr
SUMMARY:Stadtparkführung - Farbenpracht das ganze Jahr\, Stadtpark
X-ALT-DESC;FMTTYPE=text/html:<strong>Kurzbeschreibung:</strong><br/>Fachkun
 dige Führung durch den zauberhaften Stadtpark. Nicht nur die jahrhunderte 
 alten Bäume haben viel zu erzählen\, die Gästeführer Ihnen auch.\n\n<br />
 <strong>Ort:</strong><br/>Stadtpark Lahr\, Treffpunkt Haupteingang\, Kaise
 rstr. 103<br/>Kaiserstraße 107\, 77933 Lahr<br /><strong>Veranstalter:</st
 rong><br/>Stadt Lahr<br /><strong>Termin:</strong><br/>Beginn: 05.07.2026\
 , 15:00 Uhr<br/>Ende: 05.07.2026<br /><strong>Tickets: </strong><br/><a  c
 lass='wco_cb_subtitle_link'  id='ticketlink'  href='https://erlebe.lahr.de
 /oeffentliche-fuehrungen-buchen.274465.htm#/experience/FIT0002007249552488
 1' target='_blank' title='Öffnet externen Link in einem neuen Fenster'></a
 ><br/>https://erlebe.lahr.de/oeffentliche-fuehrungen-buchen.274465.htm#/ex
 perience/FIT00020072495524881<br/>Die Führung 5\,00 €   pro Person + Parke
 intritt (Erw. 4\,00 €\, Kinder 1\,50 €). <br />\nDie Führung 60\,00€ pro G
 ruppe+ Parkeintritt / max. 25 Personen<br />\nGanzjährig individuell buchb
 ar<br />\n<br /><strong>Link:</strong><br/><a href='https://ortenaukultur.
 de/fr/evenements/detail/evenement/id/514511-stadtparkfuehrung-farbenpracht
 -das-ganze-jahr/?vt=1'>Page détaillée </a>
END:VEVENT
END:VCALENDAR
