BEGIN:VCALENDAR
VERSION:2.0
PRODID:-//ortenaukultur.de//NONSGML kigkonsult.se iCalcreator 2.41.92//
CALSCALE:GREGORIAN
METHOD:PUBLISH
UID:30333233-6135-4064-a565-653439363033
X-WR-TIMEZONE:Europe/Berlin
X-LIC-LOCATION:Europe/Berlin
BEGIN:VEVENT
UID:514868-kulturportal@ortenaukultur.de
DTSTAMP:20260425T025249Z
DESCRIPTION:Kurzbeschreibung:\n Tolles Kinder- & Familienprogramm\, mit Mus
 ikprogramm von Rob Notes. Seid gespannt!\n Ort:\n Bürgerpark\n Im Dorf 26\
 , 77787 Nordrach\n Veranstalter:\n Touristen-Information Nordrach\n Termin
 :\n Beginn: 22.05.2026\, 17:00 Uhr\n Ende: 22.05.2026\n Link:\n Page détai
 llée
DTSTART;TZID=Europe/Berlin:20260522T170000
DTEND;TZID=Europe/Berlin:20260522T200000
LOCATION:Bürgerpark\, Im Dorf 26\, 77787 Nordrach
SUMMARY:Nordracher Frühlingsfest\, Bürgerpark
X-ALT-DESC;FMTTYPE=text/html:<strong>Kurzbeschreibung:</strong><br/>Tolles 
 Kinder- & Familienprogramm\, mit Musikprogramm von Rob Notes. Seid gespann
 t!<br /><strong>Ort:</strong><br/>Bürgerpark<br/>Im Dorf 26\, 77787 Nordra
 ch<br /><strong>Veranstalter:</strong><br/>Touristen-Information Nordrach<
 br /><strong>Termin:</strong><br/>Beginn: 22.05.2026\, 17:00 Uhr<br/>Ende:
  22.05.2026<br /><strong>Link:</strong><br/><a href='https://ortenaukultur
 .de/fr/evenements/detail/evenement/id/514868-nordracher-fruehlingsfest/?vt
 =1'>Page détaillée </a>
END:VEVENT
END:VCALENDAR
