BEGIN:VCALENDAR
VERSION:2.0
PRODID:-//ortenaukultur.de//NONSGML kigkonsult.se iCalcreator 2.41.92//
CALSCALE:GREGORIAN
METHOD:PUBLISH
UID:32616431-3539-4461-b363-633639323530
X-WR-TIMEZONE:Europe/Berlin
X-LIC-LOCATION:Europe/Berlin
BEGIN:VEVENT
UID:527049-kulturportal@ortenaukultur.de
DTSTAMP:20260422T223424Z
DESCRIPTION:Kurzbeschreibung:\n Für historisch Interessierte: in herrlicher
  Natur zu den ehemaligen Nordracher Höhenhöfen und Glashütten. Treffpunkt 
 Parkplatz Kapelle Kolonie. Ohne Anmeldung.\n Ort:\n Kapelle Kolonie\n Kolo
 nie\, 77787 Nordrach - Klausenbach\n Veranstalter:\n Historischer Verein N
 ordrach\n Termin:\n Beginn: 20.09.2026\, 13:30 Uhr\n Ende: 20.09.2026\n Li
 nk:\n Page détaillée
DTSTART;TZID=Europe/Berlin:20260920T133000
DTEND;TZID=Europe/Berlin:20260920T163000
LOCATION:Kapelle Kolonie\, Kolonie\, 77787 Nordrach - Klausenbach
SUMMARY:Geführte Höhenhöfe-Wanderung im Spätsommer\, Kapelle Kolonie
X-ALT-DESC;FMTTYPE=text/html:<strong>Kurzbeschreibung:</strong><br/>Für his
 torisch Interessierte: in herrlicher Natur zu den ehemaligen Nordracher Hö
 henhöfen und Glashütten. Treffpunkt Parkplatz Kapelle Kolonie. Ohne Anmeld
 ung.\n<br /><strong>Ort:</strong><br/>Kapelle Kolonie<br/>Kolonie\, 77787 
 Nordrach - Klausenbach<br /><strong>Veranstalter:</strong><br/>Historische
 r Verein Nordrach<br /><strong>Termin:</strong><br/>Beginn: 20.09.2026\, 1
 3:30 Uhr<br/>Ende: 20.09.2026<br /><strong>Link:</strong><br/><a href='htt
 ps://ortenaukultur.de/fr/evenements/detail/evenement/id/527049-gefuehrte-h
 oehenhoefe-wanderung-im-spaetsommer/?vt=1'>Page détaillée </a>
END:VEVENT
END:VCALENDAR
