BEGIN:VCALENDAR
VERSION:2.0
PRODID:-//ortenaukultur.de//NONSGML kigkonsult.se iCalcreator 2.41.92//
CALSCALE:GREGORIAN
METHOD:PUBLISH
UID:33333934-6439-4435-b263-666461383666
X-WR-TIMEZONE:Europe/Berlin
X-LIC-LOCATION:Europe/Berlin
BEGIN:VEVENT
UID:536443-kulturportal@ortenaukultur.de
DTSTAMP:20260422T215646Z
DESCRIPTION:Kurzbeschreibung:\n Die Kreuzsattelhütte feiert ihr 100-jährige
 s Bestehen\, der Schwarzwaldverein Oberwolfach sein 65-jähriges Jubiläum.
 \n Ort:\n Gemeinde Oberwolfach\, Oberwolfach\n Veranstalter:\n Schwarzwald
 verein Oberwolfach\n Termin:\n Beginn: 13.06.2026\n Ende: 13.06.2026\n Lin
 k:\n Page détaillée
DTSTART;TZID=Europe/Berlin:20260613T000000
DTEND;TZID=Europe/Berlin:20260613T030000
LOCATION:Gemeinde Oberwolfach\, Oberwolfach
SUMMARY:100 Jahre Kreuzsattelhütte & 65 Jahre Schwarzwaldverein Oberwolfach
 \, Gemeinde Oberwolfach
X-ALT-DESC;FMTTYPE=text/html:<strong>Kurzbeschreibung:</strong><br/>Die Kre
 uzsattelhütte feiert ihr 100-jähriges Bestehen\, der Schwarzwaldverein Obe
 rwolfach sein 65-jähriges Jubiläum.<br /><strong>Ort:</strong><br/>Gemeind
 e Oberwolfach\, Oberwolfach<br /><strong>Veranstalter:</strong><br/>Schwar
 zwaldverein Oberwolfach<br /><strong>Termin:</strong><br/>Beginn: 13.06.20
 26<br/>Ende: 13.06.2026<br /><strong>Link:</strong><br/><a href='https://o
 rtenaukultur.de/fr/evenements/detail/evenement/id/536443-100-jahre-kreuzsa
 ttelhuette-65-jahre-schwarzwaldverein-oberwolfach/?vt=1'>Page détaillée </
 a>
END:VEVENT
END:VCALENDAR
