BEGIN:VCALENDAR
VERSION:2.0
PRODID:-//ortenaukultur.de//NONSGML kigkonsult.se iCalcreator 2.41.92//
CALSCALE:GREGORIAN
METHOD:PUBLISH
UID:61303061-6234-4336-b064-396231616532
X-WR-TIMEZONE:Europe/Berlin
X-LIC-LOCATION:Europe/Berlin
BEGIN:VEVENT
UID:536652-kulturportal@ortenaukultur.de
DTSTAMP:20260422T065158Z
DESCRIPTION:Kurzbeschreibung:\n Gemeinsam mit den Freunden aus Niedernai ge
 ht es über den Obstbrennerweg. Alle Infos bei Herbert Vollmer unter 07838 
 96969\n Ort:\n Hansjakob-Halle\n Im Dorf 29\, 77787 Nordrach\n Veranstalte
 r:\n Schwarzwaldverein Nordrach\n Termin:\n Beginn: 04.06.2026\, 09:00 Uhr
 \n Ende: 04.06.2026\n Link:\n Page détaillée
DTSTART;TZID=Europe/Berlin:20260604T090000
DTEND;TZID=Europe/Berlin:20260604T120000
LOCATION:Hansjakob-Halle\, Im Dorf 29\, 77787 Nordrach
SUMMARY:Gemeinsam über den Obstbrennerweg\, Hansjakob-Halle
X-ALT-DESC;FMTTYPE=text/html:<strong>Kurzbeschreibung:</strong><br/>Gemeins
 am mit den Freunden aus Niedernai geht es über den Obstbrennerweg. Alle In
 fos bei Herbert Vollmer unter 07838 96969<br /><strong>Ort:</strong><br/>H
 ansjakob-Halle<br/>Im Dorf 29\, 77787 Nordrach<br /><strong>Veranstalter:<
 /strong><br/>Schwarzwaldverein Nordrach<br /><strong>Termin:</strong><br/>
 Beginn: 04.06.2026\, 09:00 Uhr<br/>Ende: 04.06.2026<br /><strong>Link:</st
 rong><br/><a href='https://ortenaukultur.de/fr/evenements/detail/evenement
 /id/536652-gemeinsam-ueber-den-obstbrennerweg/?vt=1'>Page détaillée </a>
END:VEVENT
END:VCALENDAR
