BEGIN:VCALENDAR
VERSION:2.0
PRODID:-//ortenaukultur.de//NONSGML kigkonsult.se iCalcreator 2.41.92//
CALSCALE:GREGORIAN
METHOD:PUBLISH
UID:62313735-3037-4261-b037-323063663062
X-WR-TIMEZONE:Europe/Berlin
X-LIC-LOCATION:Europe/Berlin
BEGIN:VEVENT
UID:555766-kulturportal@ortenaukultur.de
DTSTAMP:20260422T104729Z
DESCRIPTION:Kurzbeschreibung:\n Führung:Die Altstadt von Straßburg – Mit In
 nenführung des Münsters- Entdecken Sie bekannte und weniger bekannte Sehen
 swürdigkeiten\n Ort:\n Innenstadt\n Marktplatz / Hauptstraße\, 77694 Kehl
 \n Veranstalter:\n Kehl Marketing GmbH\n Termin:\n Beginn: 16.07.2026\n En
 de: 16.07.2026\n Tickets:\n Tickets\n https://kehl-marketing-gmbh.reservix
 .de/events\n 16\,90 Euro inkl. Headset\n \n Tram-Fahrkarte unbedingt separ
 at dazu kaufen!\n Link:\n Page détaillée
DTSTART;TZID=Europe/Berlin:20260716T000000
DTEND;TZID=Europe/Berlin:20260716T030000
LOCATION:Innenstadt\, Marktplatz / Hauptstraße\, 77694 Kehl
SUMMARY:Führung 'Die Altstadt von Straßburg'\, Innenstadt
X-ALT-DESC;FMTTYPE=text/html:<strong>Kurzbeschreibung:</strong><br/>Führung
 :Die Altstadt von Straßburg – Mit Innenführung des Münsters- Entdecken Sie
  bekannte und weniger bekannte Sehenswürdigkeiten<br /><strong>Ort:</stron
 g><br/>Innenstadt<br/>Marktplatz / Hauptstraße\, 77694 Kehl<br /><strong>V
 eranstalter:</strong><br/>Kehl Marketing GmbH<br /><strong>Termin:</strong
 ><br/>Beginn: 16.07.2026<br/>Ende: 16.07.2026<br /><strong>Tickets: </stro
 ng><br/><a  class='wco_cb_subtitle_link'  id='ticketlink'  href='https://k
 ehl-marketing-gmbh.reservix.de/events' target='_blank' title='Öffnet exter
 nen Link '>Tickets</a><br/>https://kehl-marketing-gmbh.reservix.de/events<
 br/>16\,90 Euro inkl. Headset<br />\n<br />\nTram-Fahrkarte unbedingt sepa
 rat dazu kaufen!<br /><strong>Link:</strong><br/><a href='https://ortenauk
 ultur.de/fr/evenements/detail/evenement/id/555766-fuehrung-die-altstadt-vo
 n-strassburg/?vt=1'>Page détaillée </a>
END:VEVENT
END:VCALENDAR
