BEGIN:VCALENDAR
VERSION:2.0
PRODID:-//ortenaukultur.de//NONSGML kigkonsult.se iCalcreator 2.41.92//
CALSCALE:GREGORIAN
METHOD:PUBLISH
UID:64383664-3866-4761-b763-653138616663
X-WR-TIMEZONE:Europe/Berlin
X-LIC-LOCATION:Europe/Berlin
BEGIN:VEVENT
UID:556367-kulturportal@ortenaukultur.de
DTSTAMP:20260421T201838Z
DESCRIPTION:Kurzbeschreibung:\n In gemeinsamer Aktion der Münchweierer Vere
 ine wird der Maibaum aus dem Wald geholt und traditionsgemäß beim Feuerweh
 rhaus aufgestellt.\n Ort:\n Feuerwehrgerätehaus Münchweier\n Eisenbahnstra
 ße 7\, 77955 Ettenheim-Münchweier\n Veranstalter:\n Hiddi i.Brucktal\, Lat
 schary\, Musikverein Münchweier\, Frw. Feuerwehr\, Kita Waldwichtel\n Term
 in:\n Beginn: 30.04.2026\, 18:00 Uhr\n Ende: 30.04.2026\n Link:\n Page dét
 aillée
DTSTART;TZID=Europe/Berlin:20260430T180000
DTEND;TZID=Europe/Berlin:20260430T210000
LOCATION:Feuerwehrgerätehaus Münchweier\, Eisenbahnstraße 7\, 77955 Ettenhe
 im-Münchweier
SUMMARY:Maibaumstellen in Münchweier\, Feuerwehrgerätehaus Münchweier
X-ALT-DESC;FMTTYPE=text/html:<strong>Kurzbeschreibung:</strong><br/>In geme
 insamer Aktion der Münchweierer Vereine wird der Maibaum aus dem Wald geho
 lt und traditionsgemäß beim Feuerwehrhaus aufgestellt.<br /><strong>Ort:</
 strong><br/>Feuerwehrgerätehaus Münchweier<br/>Eisenbahnstraße 7\, 77955 E
 ttenheim-Münchweier<br /><strong>Veranstalter:</strong><br/>Hiddi i.Bruckt
 al\, Latschary\, Musikverein Münchweier\, Frw. Feuerwehr\, Kita Waldwichte
 l<br /><strong>Termin:</strong><br/>Beginn: 30.04.2026\, 18:00 Uhr<br/>End
 e: 30.04.2026<br /><strong>Link:</strong><br/><a href='https://ortenaukult
 ur.de/fr/evenements/detail/evenement/id/556367-maibaumstellen-in-muenchwei
 er/?vt=1'>Page détaillée </a>
END:VEVENT
END:VCALENDAR
