BEGIN:VCALENDAR
VERSION:2.0
PRODID:-//ortenaukultur.de//NONSGML kigkonsult.se iCalcreator 2.41.92//
CALSCALE:GREGORIAN
METHOD:PUBLISH
UID:39336362-3266-4762-b535-313162343166
X-WR-TIMEZONE:Europe/Berlin
X-LIC-LOCATION:Europe/Berlin
BEGIN:VEVENT
UID:557471-kulturportal@ortenaukultur.de
DTSTAMP:20260422T101916Z
DESCRIPTION:Kurzbeschreibung:\n Vier Vereine laden zum Altdorfer Dorffest e
 in. Familie und Freunde treffen\, Geselligkeit und Musik - für Trinken und
  Essen ist gesorgt.\n Ort:\n Schulvorplatz bei der Münchgrundhalle\n Josep
 h-Greber-Str. 5\, 77955 Ettenheim-Altdorf\n Veranstalter:\n IG Dorffest Al
 tdorf\n Termin:\n Beginn: 14.05.2026\, 09:00 Uhr\n Ende: 14.05.2026\n Link
 :\n Page détaillée
DTSTART;TZID=Europe/Berlin:20260514T090000
DTEND;TZID=Europe/Berlin:20260514T120000
LOCATION:Schulvorplatz bei der Münchgrundhalle\, Joseph-Greber-Str. 5\, 779
 55 Ettenheim-Altdorf
SUMMARY:Dorffest in Altdorf\, Münchgrundhalle
X-ALT-DESC;FMTTYPE=text/html:<strong>Kurzbeschreibung:</strong><br/>Vier Ve
 reine laden zum Altdorfer Dorffest ein. Familie und Freunde treffen\, Gese
 lligkeit und Musik - für Trinken und Essen ist gesorgt.<br /><strong>Ort:<
 /strong><br/>Schulvorplatz bei der Münchgrundhalle<br/>Joseph-Greber-Str. 
 5\, 77955 Ettenheim-Altdorf<br /><strong>Veranstalter:</strong><br/>IG Dor
 ffest Altdorf<br /><strong>Termin:</strong><br/>Beginn: 14.05.2026\, 09:00
  Uhr<br/>Ende: 14.05.2026<br /><strong>Link:</strong><br/><a href='https:/
 /ortenaukultur.de/fr/evenements/detail/evenement/id/557471-dorffest-in-alt
 dorf/?vt=1'>Page détaillée </a>
END:VEVENT
END:VCALENDAR
