BEGIN:VCALENDAR
VERSION:2.0
PRODID:-//ortenaukultur.de//NONSGML kigkonsult.se iCalcreator 2.41.92//
CALSCALE:GREGORIAN
METHOD:PUBLISH
UID:35313938-6239-4633-b830-623136363135
X-WR-TIMEZONE:Europe/Berlin
X-LIC-LOCATION:Europe/Berlin
BEGIN:VEVENT
UID:566079-kulturportal@ortenaukultur.de
DTSTAMP:20260422T070516Z
DESCRIPTION:Kurzbeschreibung:\n Ein ökologisch wie geschmackvoller Erlebnis
 spaziergang in die Lahrer Weinberge\n Ort:\n Treffpunkt: Weingut Wöhrle\, 
 Weinbergstraße 3\, Lahr\n Veranstalter:\n Stadt Lahr\n Termin:\n Beginn: 1
 6.05.2026\, 15:00 Uhr\n Ende: 16.05.2026\n Tickets:\n \n https://erlebe.la
 hr.de/oeffentliche-fuehrungen-buchen.274465.htm#/experience/FIT00020072582
 058089\n 15\,00 € pro Person\n Mindestteilnehmer: 12 Personen\n \n \n Link
 :\n Page détaillée
DTSTART;TZID=Europe/Berlin:20260516T150000
DTEND;TZID=Europe/Berlin:20260516T180000
LOCATION:Treffpunkt: Weingut Wöhrle\, Weinbergstraße 3\, Lahr
SUMMARY:Lahrer Weinkultur hautnah erleben - Erlebnisspaziergang mit Winzer 
 Hans Wöhrle\, Treffpunkt: Weingut Wöhrle\, Weinbergstraße 3
X-ALT-DESC;FMTTYPE=text/html:<strong>Kurzbeschreibung:</strong><br/>Ein öko
 logisch wie geschmackvoller Erlebnisspaziergang in die Lahrer Weinberge<br
  /><strong>Ort:</strong><br/>Treffpunkt: Weingut Wöhrle\, Weinbergstraße 3
 \, Lahr<br /><strong>Veranstalter:</strong><br/>Stadt Lahr<br /><strong>Te
 rmin:</strong><br/>Beginn: 16.05.2026\, 15:00 Uhr<br/>Ende: 16.05.2026<br 
 /><strong>Tickets: </strong><br/><a  class='wco_cb_subtitle_link'  id='tic
 ketlink'  href='https://erlebe.lahr.de/oeffentliche-fuehrungen-buchen.2744
 65.htm#/experience/FIT00020072582058089' target='_blank' title='Öffnet ext
 ernen Link in einem neuen Fenster'></a><br/>https://erlebe.lahr.de/oeffent
 liche-fuehrungen-buchen.274465.htm#/experience/FIT00020072582058089<br/>15
 \,00 € pro Person <br />\nMindestteilnehmer: 12 Personen<br />\n<br />\n<b
 r /><strong>Link:</strong><br/><a href='https://ortenaukultur.de/fr/evenem
 ents/detail/evenement/id/566079-lahrer-weinkultur-hautnah-erleben-erlebnis
 spaziergang-mit-winzer-hans-woehrle/?vt=1'>Page détaillée </a>
END:VEVENT
END:VCALENDAR
