BEGIN:VCALENDAR
VERSION:2.0
PRODID:-//ortenaukultur.de//NONSGML kigkonsult.se iCalcreator 2.41.92//
CALSCALE:GREGORIAN
METHOD:PUBLISH
UID:65623632-3837-4562-b636-396262326166
X-WR-TIMEZONE:Europe/Berlin
X-LIC-LOCATION:Europe/Berlin
BEGIN:VEVENT
UID:566202-kulturportal@ortenaukultur.de
DTSTAMP:20260422T235411Z
DESCRIPTION:Kurzbeschreibung:\n Diese Führung durch die historische Innenst
 adt gibt Einblicke in das Leben und Arbeiten des Lahrer Malers Wilhelm Wic
 kertsheimer.\n Ort:\n Eingang Stadtmuseum Lahr\, Kreuzstraße 6\, Lahr\n Ve
 ranstalter:\n Stadt Lahr Stadtmarketing\n Termin:\n Beginn: 23.05.2026\, 1
 5:00 Uhr\n Ende: 23.05.2026\n Tickets:\n \n https://erlebe.lahr.de/oeffent
 liche-fuehrungen-buchen.274465.htm#/experience/FIT00020072495319961\n 9\,0
 0€ pro Person\n 60\,00€ pro Gruppe / max.25 Personen\n Anmeldung ist erfor
 derlich!\n Ganzjährig individuell buchbar\n Link:\n Page détaillée
DTSTART;TZID=Europe/Berlin:20260523T150000
DTEND;TZID=Europe/Berlin:20260523T180000
LOCATION:Eingang Stadtmuseum Lahr\, Kreuzstraße 6\, Lahr
SUMMARY:Stadtfürhurng - Heimatmaler Wickertsheimer\, Eingang Stadtmuseum La
 hr\, Kreuzstraße 6
X-ALT-DESC;FMTTYPE=text/html:<strong>Kurzbeschreibung:</strong><br/>Diese F
 ührung durch die historische Innenstadt gibt Einblicke in das Leben und Ar
 beiten des Lahrer Malers Wilhelm Wickertsheimer.<br /><strong>Ort:</strong
 ><br/>Eingang Stadtmuseum Lahr\, Kreuzstraße 6\, Lahr<br /><strong>Veranst
 alter:</strong><br/>Stadt Lahr Stadtmarketing<br /><strong>Termin:</strong
 ><br/>Beginn: 23.05.2026\, 15:00 Uhr<br/>Ende: 23.05.2026<br /><strong>Tic
 kets: </strong><br/><a  class='wco_cb_subtitle_link'  id='ticketlink'  hre
 f='https://erlebe.lahr.de/oeffentliche-fuehrungen-buchen.274465.htm#/exper
 ience/FIT00020072495319961' target='_blank' title='Öffnet externen Link in
  einem neuen Fenster'></a><br/>https://erlebe.lahr.de/oeffentliche-fuehrun
 gen-buchen.274465.htm#/experience/FIT00020072495319961<br/>9\,00€ pro Pers
 on<br />\n60\,00€ pro Gruppe / max.25 Personen<br />\nAnmeldung ist erford
 erlich!<br />\nGanzjährig individuell buchbar<br /><strong>Link:</strong><
 br/><a href='https://ortenaukultur.de/fr/evenements/detail/evenement/id/56
 6202-stadtfuerhurng-heimatmaler-wickertsheimer/?vt=1'>Page détaillée </a>
END:VEVENT
END:VCALENDAR
