BEGIN:VCALENDAR
VERSION:2.0
PRODID:-//ortenaukultur.de//NONSGML kigkonsult.se iCalcreator 2.41.92//
CALSCALE:GREGORIAN
METHOD:PUBLISH
UID:35303337-3239-4634-b061-653935623130
X-WR-TIMEZONE:Europe/Berlin
X-LIC-LOCATION:Europe/Berlin
BEGIN:VEVENT
UID:567822-kulturportal@ortenaukultur.de
DTSTAMP:20260421T194616Z
DESCRIPTION:Kurzbeschreibung:\n Bea von Malchus entführt mit geballter Phan
 tasie\, verschmitztem Wortwitz und üppiger Mimik in eine farbenfrohe orien
 talische Welt.\n Ort:\n Stiftsschaffneikeller\n Friedrichstraße 7\, 77933 
 Lahr\n Veranstalter:\n KULTURKREIS LAHR e.V.\n Termin:\n Beginn: 22.05.202
 6\, 20:00 Uhr\n Ende: 22.05.2026\n Tickets:\n Vorverkauf 20\, - / 17\, - €
  (Schüler und Studenten)\n Abendkasse 23\, - / 20\, - € (Schüler und Stude
 nten)\n Link:\n Page détaillée
DTSTART;TZID=Europe/Berlin:20260522T200000
DTEND;TZID=Europe/Berlin:20260522T230000
LOCATION:Stiftsschaffneikeller\, Friedrichstraße 7\, 77933 Lahr
SUMMARY:Bea von Malchus - Das Bazilikonmädchen\, Stiftsschaffneikeller
X-ALT-DESC;FMTTYPE=text/html:<strong>Kurzbeschreibung:</strong><br/>Bea von
  Malchus entführt mit geballter Phantasie\, verschmitztem Wortwitz und üpp
 iger Mimik in eine farbenfrohe orientalische Welt. <br /><strong>Ort:</str
 ong><br/>Stiftsschaffneikeller<br/>Friedrichstraße 7\, 77933 Lahr<br /><st
 rong>Veranstalter:</strong><br/>KULTURKREIS LAHR e.V.<br /><strong>Termin:
 </strong><br/>Beginn: 22.05.2026\, 20:00 Uhr<br/>Ende: 22.05.2026<br /><st
 rong>Tickets: </strong><br/>Vorverkauf 20\, - / 17\, - € (Schüler und Stud
 enten)<br />\nAbendkasse 23\, - / 20\, - € (Schüler und Studenten)<br /><s
 trong>Link:</strong><br/><a href='https://ortenaukultur.de/fr/evenements/d
 etail/evenement/id/567822-bea-von-malchus-das-bazilikonmaedchen/?vt=1'>Pag
 e détaillée </a>
END:VEVENT
END:VCALENDAR
