BEGIN:VCALENDAR
VERSION:2.0
PRODID:-//ortenaukultur.de//NONSGML kigkonsult.se iCalcreator 2.41.92//
CALSCALE:GREGORIAN
METHOD:PUBLISH
UID:64663262-3636-4639-a132-623034616431
X-WR-TIMEZONE:Europe/Berlin
X-LIC-LOCATION:Europe/Berlin
BEGIN:VEVENT
UID:568953-kulturportal@ortenaukultur.de
DTSTAMP:20260421T201848Z
DESCRIPTION:Kurzbeschreibung:\n Der Ortsverein Önsbach lädt zum jährlichen 
 1. Mai - Grillfest am DRK Heim 'Milchhäusel' in der Mösbacher Straße ein.
 \n Ort:\n DRK Heim 'Milchhäusel' in der Mösbacher Str.\, Achern-Önsbach\n 
 Veranstalter:\n DRK Önsbach\n Termin:\n Beginn: 01.05.2026\, 11:00 Uhr\n E
 nde: 01.05.2026\n Link:\n Page détaillée
DTSTART;TZID=Europe/Berlin:20260501T110000
DTEND;TZID=Europe/Berlin:20260501T140000
LOCATION:DRK Heim 'Milchhäusel' in der Mösbacher Str.\, Achern-Önsbach
SUMMARY:1. Mai Grillfest - DRK Önsbach\, DRK Heim 'Milchhäusel' in der Mösb
 acher Str.
X-ALT-DESC;FMTTYPE=text/html:<strong>Kurzbeschreibung:</strong><br/>Der Ort
 sverein Önsbach lädt zum jährlichen 1. Mai - Grillfest am DRK Heim 'Milchh
 äusel' in der Mösbacher Straße ein.<br /><strong>Ort:</strong><br/>DRK Hei
 m 'Milchhäusel' in der Mösbacher Str.\, Achern-Önsbach<br /><strong>Verans
 talter:</strong><br/>DRK Önsbach<br /><strong>Termin:</strong><br/>Beginn:
  01.05.2026\, 11:00 Uhr<br/>Ende: 01.05.2026<br /><strong>Link:</strong><b
 r/><a href='https://ortenaukultur.de/fr/evenements/detail/evenement/id/568
 953-1-mai-grillfest-drk-oensbach/?vt=1'>Page détaillée </a>
END:VEVENT
END:VCALENDAR
