BEGIN:VCALENDAR
VERSION:2.0
PRODID:-//ortenaukultur.de//NONSGML kigkonsult.se iCalcreator 2.41.92//
CALSCALE:GREGORIAN
METHOD:PUBLISH
UID:30303133-3939-4234-b737-396631653535
X-WR-TIMEZONE:Europe/Berlin
X-LIC-LOCATION:Europe/Berlin
BEGIN:VEVENT
UID:569484-kulturportal@ortenaukultur.de
DTSTAMP:20260421T220538Z
DESCRIPTION:Kurzbeschreibung:\n Die Chorgemeinschaft GV „Frohsinn“ Önsbach/
  „Eintracht“ Fautenbach lädt zum Frühjahrskonzert ein.\n Ort:\n Alte Kirch
 e Fautenbach\n Mühlenstr. 15\, 77855 Achern-Fautenbach\n Veranstalter:\n C
 horgemeinschaft GV „Frohsinn“ Önsbach/ „Eintracht“ Fautenbach\n Termin:\n 
 Beginn: 09.05.2026\, 19:30 Uhr\n Ende: 09.05.2026\n Tickets:\n Vorverkauf 
 10 Euro / Abendkasse 12 Euro\n Link:\n Page détaillée
DTSTART;TZID=Europe/Berlin:20260509T193000
DTEND;TZID=Europe/Berlin:20260509T223000
LOCATION:Alte Kirche Fautenbach\, Mühlenstr. 15\, 77855 Achern-Fautenbach
SUMMARY:Chorkonzert der Singgemeinschaft GV „Frohsinn“ Önsbach/ „Eintracht“
  Fautenbach\, Alte Kirche Fautenbach
X-ALT-DESC;FMTTYPE=text/html:<strong>Kurzbeschreibung:</strong><br/>Die Cho
 rgemeinschaft GV „Frohsinn“ Önsbach/ „Eintracht“ Fautenbach lädt zum Frühj
 ahrskonzert ein.<br /><strong>Ort:</strong><br/>Alte Kirche Fautenbach<br/
 >Mühlenstr. 15\, 77855 Achern-Fautenbach<br /><strong>Veranstalter:</stron
 g><br/>Chorgemeinschaft GV „Frohsinn“ Önsbach/ „Eintracht“ Fautenbach<br /
 ><strong>Termin:</strong><br/>Beginn: 09.05.2026\, 19:30 Uhr<br/>Ende: 09.
 05.2026<br /><strong>Tickets: </strong><br/>Vorverkauf 10 Euro / Abendkass
 e 12 Euro<br /><strong>Link:</strong><br/><a href='https://ortenaukultur.d
 e/fr/evenements/detail/evenement/id/569484-chorkonzert-der-singgemeinschaf
 t-gv-frohsinn-oensbach-eintracht-fautenbach/?vt=1'>Page détaillée </a>
END:VEVENT
END:VCALENDAR
