BEGIN:VCALENDAR
VERSION:2.0
PRODID:-//ortenaukultur.de//NONSGML kigkonsult.se iCalcreator 2.41.92//
CALSCALE:GREGORIAN
METHOD:PUBLISH
UID:35393539-6235-4465-b561-616637366166
X-WR-TIMEZONE:Europe/Berlin
X-LIC-LOCATION:Europe/Berlin
BEGIN:VEVENT
UID:570610-kulturportal@ortenaukultur.de
DTSTAMP:20260421T220513Z
DESCRIPTION:Kurzbeschreibung:\n Die Musiker begeben sich auf eine Reise zum
  Mond mit einer erlesenen Passagierliste: Schubert\, die Schumanns\, Brahm
 s\, Fauré\, Debussy\, Radiohead und Tom Waits.\n Ort:\n Alte Kirche Fauten
 bach\n Mühlenstr. 15\, 77855 Achern-Fautenbach\n Veranstalter:\n Stadt Ach
 ern - FG 3.3 Kultur\n Termin:\n Beginn: 03.05.2026\, 19:00 Uhr\n Ende: 03.
 05.2026\n Tickets:\n Achat de billets\n https://ortenaukultur.reservix.de/
 p/reservix/event/2417457\n 1. Kategorie:\n jusqu'à 28\,00 € + Réduction\n 
 2. Kategorie:\n jusqu'à 25\,00 € + Réduction\n *Toute taxe comprise\n \n L
 ink:\n Page détaillée
DTSTART;TZID=Europe/Berlin:20260503T190000
DTEND;TZID=Europe/Berlin:20260503T220000
LOCATION:Alte Kirche Fautenbach\, Mühlenstr. 15\, 77855 Achern-Fautenbach
SUMMARY:Trio Belli-Fischer-Rimmer - Trip to the Moon\, Alte Kirche Fautenba
 ch
X-ALT-DESC;FMTTYPE=text/html:<strong>Kurzbeschreibung:</strong><br/>Die Mus
 iker begeben sich auf eine Reise zum Mond mit einer erlesenen Passagierlis
 te: Schubert\, die Schumanns\, Brahms\, Fauré\, Debussy\, Radiohead und To
 m Waits.<br /><strong>Ort:</strong><br/>Alte Kirche Fautenbach<br/>Mühlens
 tr. 15\, 77855 Achern-Fautenbach<br /><strong>Veranstalter:</strong><br/>S
 tadt Achern - FG 3.3 Kultur<br /><strong>Termin:</strong><br/>Beginn: 03.0
 5.2026\, 19:00 Uhr<br/>Ende: 03.05.2026<br /><strong>Tickets: </strong><br
 /><a rel='asdf' href='https://ortenaukultur.de/fr/detail/billets/id/570610
 -trio-belli-fischer-rimmer-trip-to-the-moon/?follow=https%253A%252F%252For
 tenaukultur.reservix.de%252Fp%252Freservix%252Fevent%252F2417457' target='
 _blank' title='' id='ticketlink'>Achat de billets</a><br/>https://ortenauk
 ultur.reservix.de/p/reservix/event/2417457<br/><b>1. Kategorie: </b><br />
 jusqu&#039\;à 28\,00 &euro\;&nbsp\; + Réduction<br /><b>2. Kategorie: </b>
 <br />jusqu&#039\;à 25\,00 &euro\;&nbsp\; + Réduction<br />*Toute taxe com
 prise<br /><br /><strong>Link:</strong><br/><a href='https://ortenaukultur
 .de/fr/evenements/detail/evenement/id/570610-trio-belli-fischer-rimmer-tri
 p-to-the-moon/?vt=1'>Page détaillée </a>
END:VEVENT
END:VCALENDAR
