BEGIN:VCALENDAR
VERSION:2.0
PRODID:-//ortenaukultur.de//NONSGML kigkonsult.se iCalcreator 2.41.92//
CALSCALE:GREGORIAN
METHOD:PUBLISH
UID:30373033-3062-4064-a463-326133343665
X-WR-TIMEZONE:Europe/Berlin
X-LIC-LOCATION:Europe/Berlin
BEGIN:VEVENT
UID:572409-kulturportal@ortenaukultur.de
DTSTAMP:20260421T194549Z
DESCRIPTION:Kurzbeschreibung:\n Ein kulinarisches und kulturelles Highlight
  in der Oberkircher Innenstadt\n Ort:\n Innenstadt\n Hauptstraße\, 77704 O
 berkirch\n Veranstalter:\n Stadt Oberkirch\n Termin:\n Beginn: 30.05.2026
 \n Ende: 30.05.2026\n Tickets:\n Eintritt frei!\n Link:\n Page détaillée
DTSTART;TZID=Europe/Berlin:20260530T000000
DTEND;TZID=Europe/Berlin:20260530T030000
LOCATION:Innenstadt\, Hauptstraße\, 77704 Oberkirch
SUMMARY:Oberkircher Erdbeerfest\, Fußgängerzone / Innenstadt
X-ALT-DESC;FMTTYPE=text/html:<strong>Kurzbeschreibung:</strong><br/>Ein kul
 inarisches und kulturelles Highlight in der Oberkircher Innenstadt<br /><s
 trong>Ort:</strong><br/>Innenstadt<br/>Hauptstraße\, 77704 Oberkirch<br />
 <strong>Veranstalter:</strong><br/>Stadt Oberkirch<br /><strong>Termin:</s
 trong><br/>Beginn: 30.05.2026<br/>Ende: 30.05.2026<br /><strong>Tickets: <
 /strong><br/>Eintritt frei!<br /><strong>Link:</strong><br/><a href='https
 ://ortenaukultur.de/fr/evenements/detail/evenement/id/572409-oberkircher-e
 rdbeerfest/?vt=1'>Page détaillée </a>
END:VEVENT
END:VCALENDAR
