BEGIN:VCALENDAR
VERSION:2.0
PRODID:-//ortenaukultur.de//NONSGML kigkonsult.se iCalcreator 2.41.92//
CALSCALE:GREGORIAN
METHOD:PUBLISH
UID:62376562-6132-4137-b461-643865366363
X-WR-TIMEZONE:Europe/Berlin
X-LIC-LOCATION:Europe/Berlin
BEGIN:VEVENT
UID:572787-kulturportal@ortenaukultur.de
DTSTAMP:20260421T224317Z
DESCRIPTION:Kurzbeschreibung:\n Choreographie von Hervé Koubi in enger Zusa
 mmenarbeit mit Fayçal Hamlat\n Ort:\n Oberrheinhalle\n Schutterwälder Stra
 ße\, Messegelände\, 77656 Offenburg\n Veranstalter:\n Kulturbüro Offenburg
 \n Termin:\n Beginn: 26.04.2026\, 19:00 Uhr\n Ende: 26.04.2026\n Tickets:
 \n Achat de billets\n https://ortenaukultur.reservix.de/p/reservix/event/2
 380152\n 1. Kategorie:\n jusqu'à 41\,70 € + Réduction\n 2. Kategorie:\n ju
 squ'à 37\,30 € + Réduction\n 3. Kategorie:\n jusqu'à 32\,90 € + Réduction
 \n *Toute taxe comprise\n \n Link:\n Page détaillée
DTSTART;TZID=Europe/Berlin:20260426T190000
DTEND;TZID=Europe/Berlin:20260426T220000
LOCATION:Oberrheinhalle\, Schutterwälder Straße\, Messegelände\, 77656 Offe
 nburg
SUMMARY:Oberrhein Tanzreihe - Compagnie Hervé Koubi - Sol Invictus\, Oberrh
 einhalle
X-ALT-DESC;FMTTYPE=text/html:<strong>Kurzbeschreibung:</strong><br/>Choreog
 raphie von Hervé Koubi in enger Zusammenarbeit mit Fayçal Hamlat\n<br /><s
 trong>Ort:</strong><br/>Oberrheinhalle<br/>Schutterwälder Straße\, Messege
 lände\, 77656 Offenburg<br /><strong>Veranstalter:</strong><br/>Kulturbüro
  Offenburg<br /><strong>Termin:</strong><br/>Beginn: 26.04.2026\, 19:00 Uh
 r<br/>Ende: 26.04.2026<br /><strong>Tickets: </strong><br/><a rel='asdf' h
 ref='https://ortenaukultur.de/fr/detail/billets/id/572787-oberrhein-tanzre
 ihe-compagnie-herve-koubi-sol-invictus/?follow=https%253A%252F%252Fortenau
 kultur.reservix.de%252Fp%252Freservix%252Fevent%252F2380152' target='_blan
 k' title='' id='ticketlink'>Achat de billets</a><br/>https://ortenaukultur
 .reservix.de/p/reservix/event/2380152<br/><b>1. Kategorie: </b><br />jusqu
 &#039\;à 41\,70 &euro\;&nbsp\; + Réduction<br /><b>2. Kategorie: </b><br /
 >jusqu&#039\;à 37\,30 &euro\;&nbsp\; + Réduction<br /><b>3. Kategorie: </b
 ><br />jusqu&#039\;à 32\,90 &euro\;&nbsp\; + Réduction<br />*Toute taxe co
 mprise<br /><br /><strong>Link:</strong><br/><a href='https://ortenaukultu
 r.de/fr/evenements/detail/evenement/id/572787-oberrhein-tanzreihe-compagni
 e-herve-koubi-sol-invictus/?vt=1'>Page détaillée </a>
END:VEVENT
END:VCALENDAR
