BEGIN:VCALENDAR
VERSION:2.0
PRODID:-//ortenaukultur.de//NONSGML kigkonsult.se iCalcreator 2.41.92//
CALSCALE:GREGORIAN
METHOD:PUBLISH
UID:63373263-6230-4636-b733-306139306164
X-WR-TIMEZONE:Europe/Berlin
X-LIC-LOCATION:Europe/Berlin
BEGIN:VEVENT
UID:578109-kulturportal@ortenaukultur.de
DTSTAMP:20260422T125453Z
DESCRIPTION:Kurzbeschreibung:\n Grooviger Jazzfunk aus Tokio. Das Jazz Trio
  Nautilus präsentiert sich organisch\, entspannt und hochmusikalisch.\n Or
 t:\n Reithalle im Kulturforum\n Moltkestraße 31\, 77654 Offenburg\n Verans
 talter:\n Kulturbüro Offenburg\n Termin:\n Beginn: 15.05.2026\, 20:00 Uhr
 \n Ende: 15.05.2026\n Tickets:\n Achat de billets\n https://ortenaukultur.
 reservix.de/p/reservix/event/2425989\n 1. Kategorie:\n jusqu'à 18\,60 € + 
 Réduction\n *Toute taxe comprise\n \n Link:\n Page détaillée
DTSTART;TZID=Europe/Berlin:20260515T200000
DTEND;TZID=Europe/Berlin:20260515T230000
LOCATION:Reithalle im Kulturforum\, Moltkestraße 31\, 77654 Offenburg
SUMMARY:Nautilus\, Reithalle im Kulturforum
X-ALT-DESC;FMTTYPE=text/html:<strong>Kurzbeschreibung:</strong><br/>Groovig
 er Jazzfunk aus Tokio.  Das Jazz Trio Nautilus präsentiert sich organisch\
 , entspannt und hochmusikalisch. <br /><strong>Ort:</strong><br/>Reithalle
  im Kulturforum<br/>Moltkestraße 31\, 77654 Offenburg<br /><strong>Veranst
 alter:</strong><br/>Kulturbüro Offenburg<br /><strong>Termin:</strong><br/
 >Beginn: 15.05.2026\, 20:00 Uhr<br/>Ende: 15.05.2026<br /><strong>Tickets:
  </strong><br/><a rel='asdf' href='https://ortenaukultur.de/fr/detail/bill
 ets/id/578109-nautilus/?follow=https%253A%252F%252Fortenaukultur.reservix.
 de%252Fp%252Freservix%252Fevent%252F2425989' target='_blank' title='' id='
 ticketlink'>Achat de billets</a><br/>https://ortenaukultur.reservix.de/p/r
 eservix/event/2425989<br/><b>1. Kategorie: </b><br />jusqu&#039\;à 18\,60 
 &euro\;&nbsp\; + Réduction<br />*Toute taxe comprise<br /><br /><strong>Li
 nk:</strong><br/><a href='https://ortenaukultur.de/fr/evenements/detail/ev
 enement/id/578109-nautilus/?vt=1'>Page détaillée </a>
END:VEVENT
END:VCALENDAR
