BEGIN:VCALENDAR
VERSION:2.0
PRODID:-//ortenaukultur.de//NONSGML kigkonsult.se iCalcreator 2.41.92//
CALSCALE:GREGORIAN
METHOD:PUBLISH
UID:32356237-3364-4563-a234-643336376365
X-WR-TIMEZONE:Europe/Berlin
X-LIC-LOCATION:Europe/Berlin
BEGIN:VEVENT
UID:579350-kulturportal@ortenaukultur.de
DTSTAMP:20260422T015851Z
DESCRIPTION:Kurzbeschreibung:\n an der Kleintierzuchtanlage mit vielen Gehe
 ge für Kleintiere im Stricker\n Ort:\n Kleintierzuchtanlage im Stricker\, 
 Haslach\n Veranstalter:\n Kleintierzuchtverein C70\n Termin:\n Beginn: 01.
 05.2026\, 10:00 Uhr\n Ende: 01.05.2026\n Link:\n Page détaillée
DTSTART;TZID=Europe/Berlin:20260501T100000
DTEND;TZID=Europe/Berlin:20260501T130000
LOCATION:Kleintierzuchtanlage im Stricker\, Haslach
SUMMARY:Maihock des Kleintierzuchtvereins\, Kleintierzuchtanlage im Stricke
 r
X-ALT-DESC;FMTTYPE=text/html:<strong>Kurzbeschreibung:</strong><br/>an der 
 Kleintierzuchtanlage mit vielen Gehege für Kleintiere im Stricker<br /><st
 rong>Ort:</strong><br/>Kleintierzuchtanlage im Stricker\, Haslach<br /><st
 rong>Veranstalter:</strong><br/>Kleintierzuchtverein C70<br /><strong>Term
 in:</strong><br/>Beginn: 01.05.2026\, 10:00 Uhr<br/>Ende: 01.05.2026<br />
 <strong>Link:</strong><br/><a href='https://ortenaukultur.de/fr/evenements
 /detail/evenement/id/579350-maihock-des-kleintierzuchtvereins/?vt=1'>Page 
 détaillée </a>
END:VEVENT
END:VCALENDAR
