BEGIN:VCALENDAR
VERSION:2.0
PRODID:-//ortenaukultur.de//NONSGML kigkonsult.se iCalcreator 2.41.92//
CALSCALE:GREGORIAN
METHOD:PUBLISH
UID:30623464-3362-4331-b235-623531336534
X-WR-TIMEZONE:Europe/Berlin
X-LIC-LOCATION:Europe/Berlin
BEGIN:VEVENT
UID:580151-kulturportal@ortenaukultur.de
DTSTAMP:20260422T084805Z
DESCRIPTION:Kurzbeschreibung:\n Freuen Sie sich auf das Weinfest bei der Wi
 nzergenossenschaft Münchweier-Wallburg-Schmieheim mit ausgezeichneten Wein
 en und Live-Musik.\n Ort:\n Traubenannahmestelle beim Kreisverkehr Münchwe
 ier\n L 103 (beim Kreisverkehr)\, 77955 Ettenheim-Münchweier\n Veranstalte
 r:\n Winzergenossenschaft Münchweier- Wallburg- Schmieheim e. G.\n Termin:
 \n Beginn: 06.09.2026\n Ende: 06.09.2026\n Tickets:\n Eintritt frei\n Link
 :\n Page détaillée
DTSTART;TZID=Europe/Berlin:20260906T000000
DTEND;TZID=Europe/Berlin:20260906T030000
LOCATION:Traubenannahmestelle beim Kreisverkehr Münchweier\, L 103 (beim Kr
 eisverkehr)\, 77955 Ettenheim-Münchweier
SUMMARY:Winzerhock in Münchweier \, Traubenabnahmestelle WG Münchweier
X-ALT-DESC;FMTTYPE=text/html:<strong>Kurzbeschreibung:</strong><br/>Freuen 
 Sie sich auf das Weinfest bei der Winzergenossenschaft Münchweier-Wallburg
 -Schmieheim mit ausgezeichneten Weinen und Live-Musik.\n<br /><strong>Ort:
 </strong><br/>Traubenannahmestelle beim Kreisverkehr Münchweier<br/>L 103 
 (beim Kreisverkehr)\, 77955 Ettenheim-Münchweier<br /><strong>Veranstalter
 :</strong><br/>Winzergenossenschaft Münchweier- Wallburg- Schmieheim e. G.
 <br /><strong>Termin:</strong><br/>Beginn: 06.09.2026<br/>Ende: 06.09.2026
 <br /><strong>Tickets: </strong><br/>Eintritt frei<br /><strong>Link:</str
 ong><br/><a href='https://ortenaukultur.de/fr/evenements/detail/evenement/
 id/580151-winzerhock-in-muenchweier/?vt=1'>Page détaillée </a>
END:VEVENT
END:VCALENDAR
