BEGIN:VCALENDAR
VERSION:2.0
PRODID:-//ortenaukultur.de//NONSGML kigkonsult.se iCalcreator 2.41.92//
CALSCALE:GREGORIAN
METHOD:PUBLISH
UID:62623639-3834-4234-a635-343332306334
X-WR-TIMEZONE:Europe/Berlin
X-LIC-LOCATION:Europe/Berlin
BEGIN:VEVENT
UID:580853-kulturportal@ortenaukultur.de
DTSTAMP:20260422T014315Z
DESCRIPTION:Kurzbeschreibung:\n Der beliebte Flohmarkt in der Historischen 
 Fachwerkaltstadt hat einen ganz besonderen Flair.\n Ort:\n Historische Fac
 hwerkaltstadt\n Marktplatz\, 77716 Haslach\n Veranstalter:\n Marktorganisa
 tion Lehmann\n Termin:\n Beginn: 31.10.2026\, 09:00 Uhr\n Ende: 31.10.2026
 \n Link:\n Page détaillée
DTSTART;TZID=Europe/Berlin:20261031T090000
DTEND;TZID=Europe/Berlin:20261031T120000
LOCATION:Historische Fachwerkaltstadt\, Marktplatz\, 77716 Haslach
SUMMARY:Flohmarkt \, Historische Fachwerkaltstadt
X-ALT-DESC;FMTTYPE=text/html:<strong>Kurzbeschreibung:</strong><br/>Der bel
 iebte Flohmarkt in der Historischen Fachwerkaltstadt hat einen ganz besond
 eren Flair.<br /><strong>Ort:</strong><br/>Historische Fachwerkaltstadt<br
 />Marktplatz\, 77716 Haslach<br /><strong>Veranstalter:</strong><br/>Markt
 organisation Lehmann<br /><strong>Termin:</strong><br/>Beginn: 31.10.2026\
 , 09:00 Uhr<br/>Ende: 31.10.2026<br /><strong>Link:</strong><br/><a href='
 https://ortenaukultur.de/fr/evenements/detail/evenement/id/580853-flohmark
 t/?vt=1'>Page détaillée </a>
END:VEVENT
END:VCALENDAR
