BEGIN:VCALENDAR
VERSION:2.0
PRODID:-//ortenaukultur.de//NONSGML kigkonsult.se iCalcreator 2.41.92//
CALSCALE:GREGORIAN
METHOD:PUBLISH
UID:31373235-6633-4434-b634-663132383038
X-WR-TIMEZONE:Europe/Berlin
X-LIC-LOCATION:Europe/Berlin
BEGIN:VEVENT
UID:581891-kulturportal@ortenaukultur.de
DTSTAMP:20260421T201926Z
DESCRIPTION:Kurzbeschreibung:\n Dreitägig\, für Kinder und Jugendliche. In 
 Zusammenarbeit mit 11teamsports. Kurt-Spitzmüller-Sportanlage.\n Ort:\n Sp
 ortplatz: Kurt-Spitzmüller Sportanlage\n Im Dorf 86\, 77787 Nordrach\n Ver
 anstalter:\n ASV-Sportverein\n Termin:\n Beginn: 06.08.2026\n Ende: 06.08.
 2026\n Link:\n Page détaillée
DTSTART;VALUE=DATE:20260806
DTEND;VALUE=DATE:20260807
LOCATION:Sportplatz: Kurt-Spitzmüller Sportanlage\, Im Dorf 86\, 77787 Nord
 rach
SUMMARY:Jugend-Fußballcamp des  ASV-Nordrach.\, Sportplatz: Kurt-Spitzmülle
 r Sportanlage
X-ALT-DESC;FMTTYPE=text/html:<strong>Kurzbeschreibung:</strong><br/>Dreitäg
 ig\, für Kinder und Jugendliche. In Zusammenarbeit mit 11teamsports. Kurt-
 Spitzmüller-Sportanlage.<br /><strong>Ort:</strong><br/>Sportplatz: Kurt-S
 pitzmüller Sportanlage<br/>Im Dorf 86\, 77787 Nordrach<br /><strong>Verans
 talter:</strong><br/>ASV-Sportverein<br /><strong>Termin:</strong><br/>Beg
 inn: 06.08.2026<br/>Ende: 06.08.2026<br /><strong>Link:</strong><br/><a hr
 ef='https://ortenaukultur.de/fr/evenements/detail/evenement/id/581891-juge
 nd-fussballcamp-des-asv-nordrach/?vt=1'>Page détaillée </a>
END:VEVENT
END:VCALENDAR
