BEGIN:VCALENDAR
VERSION:2.0
PRODID:-//ortenaukultur.de//NONSGML kigkonsult.se iCalcreator 2.41.92//
CALSCALE:GREGORIAN
METHOD:PUBLISH
UID:36376465-6666-4966-b132-383165613937
X-WR-TIMEZONE:Europe/Berlin
X-LIC-LOCATION:Europe/Berlin
BEGIN:VEVENT
UID:581993-kulturportal@ortenaukultur.de
DTSTAMP:20260422T014416Z
DESCRIPTION:Kurzbeschreibung:\n Die Fasendgemeinschaft 'Letscheck' freut si
 ch schon jetzt auf viele Wanderer und Ihren Besuch! Störgeißhütte.\n Ort:
 \n Naturfreundehaus Störgeißhütte\n Kohlberg 5\, 77787 Nordrach\n Veransta
 lter:\n Fasendgemeinschaft Letscheck\n Termin:\n Beginn: 01.05.2026\, 11:0
 0 Uhr\n Ende: 01.05.2026\n Link:\n Page détaillée
DTSTART;TZID=Europe/Berlin:20260501T110000
DTEND;TZID=Europe/Berlin:20260501T140000
LOCATION:Naturfreundehaus Störgeißhütte\, Kohlberg 5\, 77787 Nordrach
SUMMARY:Maifest auf dem Letscheck.\, Naturfreundehaus Störgeißhütte
X-ALT-DESC;FMTTYPE=text/html:<strong>Kurzbeschreibung:</strong><br/>Die Fas
 endgemeinschaft 'Letscheck' freut sich schon jetzt auf viele Wanderer und 
 Ihren Besuch! Störgeißhütte.<br /><strong>Ort:</strong><br/>Naturfreundeha
 us Störgeißhütte<br/>Kohlberg 5\, 77787 Nordrach<br /><strong>Veranstalter
 :</strong><br/>Fasendgemeinschaft Letscheck<br /><strong>Termin:</strong><
 br/>Beginn: 01.05.2026\, 11:00 Uhr<br/>Ende: 01.05.2026<br /><strong>Link:
 </strong><br/><a href='https://ortenaukultur.de/fr/evenements/detail/evene
 ment/id/581993-maifest-auf-dem-letscheck/?vt=1'>Page détaillée </a>
END:VEVENT
END:VCALENDAR
