BEGIN:VCALENDAR
VERSION:2.0
PRODID:-//ortenaukultur.de//NONSGML kigkonsult.se iCalcreator 2.41.92//
CALSCALE:GREGORIAN
METHOD:PUBLISH
UID:33303039-6464-4039-b931-343630383234
X-WR-TIMEZONE:Europe/Berlin
X-LIC-LOCATION:Europe/Berlin
BEGIN:VEVENT
UID:582062-kulturportal@ortenaukultur.de
DTSTAMP:20260422T105329Z
DESCRIPTION:Kurzbeschreibung:\n Die Stadtkapelle Hausach lädt die Bevölkeru
 ng\, Gäste und alle Freunde der Blasmusik herzlich zu ihrem traditionellen
  Sommerabendkonzert ein.\n Ort:\n Klosterplatz\n \, 77756 Hausach\n Verans
 talter:\n Stadtkapelle Hausach\n Termin:\n Beginn: 22.05.2026\, 19:00 Uhr
 \n Ende: 22.05.2026\n Link:\n Page détaillée
DTSTART;TZID=Europe/Berlin:20260522T190000
DTEND;TZID=Europe/Berlin:20260522T220000
LOCATION:Klosterplatz\, \, 77756 Hausach
SUMMARY:Sommerabendkonzert\, Klosterplatz
X-ALT-DESC;FMTTYPE=text/html:<strong>Kurzbeschreibung:</strong><br/>Die Sta
 dtkapelle Hausach lädt die Bevölkerung\, Gäste und alle Freunde der Blasmu
 sik herzlich zu ihrem traditionellen Sommerabendkonzert ein. <br /><strong
 >Ort:</strong><br/>Klosterplatz<br/>\, 77756 Hausach<br /><strong>Veransta
 lter:</strong><br/>Stadtkapelle Hausach<br /><strong>Termin:</strong><br/>
 Beginn: 22.05.2026\, 19:00 Uhr<br/>Ende: 22.05.2026<br /><strong>Link:</st
 rong><br/><a href='https://ortenaukultur.de/fr/evenements/detail/evenement
 /id/582062-sommerabendkonzert/?vt=1'>Page détaillée </a>
END:VEVENT
END:VCALENDAR
