BEGIN:VCALENDAR
VERSION:2.0
PRODID:-//ortenaukultur.de//NONSGML kigkonsult.se iCalcreator 2.41.92//
CALSCALE:GREGORIAN
METHOD:PUBLISH
UID:30653339-3163-4465-a135-653736636531
X-WR-TIMEZONE:Europe/Berlin
X-LIC-LOCATION:Europe/Berlin
BEGIN:VEVENT
UID:583155-kulturportal@ortenaukultur.de
DTSTAMP:20260421T221733Z
DESCRIPTION:Kurzbeschreibung:\n „Zeitenspiel zu Nordrach“: Mittelalterliche
  Handwerker und Marktbeschicker schlagen über die Pfingsttage ihr Lager be
 i uns auf. Rund um die Hansjakob-Halle.\n Ort:\n rund um die Hansjakob Hal
 le\n Im Dorf 29\, 77787 Nordrach\n Veranstalter:\n Touristen-Information N
 ordrach\n Termin:\n Beginn: 23.05.2026\, 11:00 Uhr\n Ende: 23.05.2026\n Li
 nk:\n Page détaillée
DTSTART;TZID=Europe/Berlin:20260523T110000
DTEND;TZID=Europe/Berlin:20260523T140000
LOCATION:rund um die Hansjakob Halle \, Im Dorf 29\, 77787 Nordrach
SUMMARY:Bunter Mittelaltermarkt mit Lagerleben und Ritterturnier! \, Hansja
 kob-Halle
X-ALT-DESC;FMTTYPE=text/html:<strong>Kurzbeschreibung:</strong><br/>„Zeiten
 spiel zu Nordrach“: Mittelalterliche Handwerker und Marktbeschicker schlag
 en über die Pfingsttage ihr Lager bei uns auf. Rund um die Hansjakob-Halle
 .\n<br /><strong>Ort:</strong><br/>rund um die Hansjakob Halle <br/>Im Dor
 f 29\, 77787 Nordrach<br /><strong>Veranstalter:</strong><br/>Touristen-In
 formation Nordrach<br /><strong>Termin:</strong><br/>Beginn: 23.05.2026\, 
 11:00 Uhr<br/>Ende: 23.05.2026<br /><strong>Link:</strong><br/><a href='ht
 tps://ortenaukultur.de/fr/evenements/detail/evenement/id/583155-bunter-mit
 telaltermarkt-mit-lagerleben-und-ritterturnier/?vt=1'>Page détaillée </a>
END:VEVENT
END:VCALENDAR
