BEGIN:VCALENDAR
VERSION:2.0
PRODID:-//ortenaukultur.de//NONSGML kigkonsult.se iCalcreator 2.41.92//
CALSCALE:GREGORIAN
METHOD:PUBLISH
UID:36386631-6465-4766-b832-626532346264
X-WR-TIMEZONE:Europe/Berlin
X-LIC-LOCATION:Europe/Berlin
BEGIN:VEVENT
UID:584182-kulturportal@ortenaukultur.de
DTSTAMP:20260422T014757Z
DESCRIPTION:Kurzbeschreibung:\n Auszeit vom Alltag mit unserer zertifiziert
 en Wald'bade'meisterin: Nutzt die Heilkraft des Waldes! 17 Euro p./P. Anme
 ldung: Touristen-Info\, Tel. 07838/9299-21.\n Ort:\n Pfaffenbacher Eck\n x
 x\, xx Nordrach\n Veranstalter:\n Touristen-Information Nordrach\n Termin:
 \n Beginn: 19.12.2026\, 13:30 Uhr\n Ende: 19.12.2026\n Link:\n Page détail
 lée
DTSTART;TZID=Europe/Berlin:20261219T133000
DTEND;TZID=Europe/Berlin:20261219T163000
LOCATION:Pfaffenbacher Eck\, xx\, xx Nordrach
SUMMARY:Wald'baden' - wandernd den Wald als Ort der Kraft und Ruhe entdecke
 n. \, Pfaffenbacher Eck
X-ALT-DESC;FMTTYPE=text/html:<strong>Kurzbeschreibung:</strong><br/>Auszeit
  vom Alltag mit unserer zertifizierten Wald'bade'meisterin: Nutzt die Heil
 kraft des Waldes! 17 Euro p./P. Anmeldung: Touristen-Info\, Tel. 07838/929
 9-21.<br /><strong>Ort:</strong><br/>Pfaffenbacher Eck<br/>xx\, xx Nordrac
 h<br /><strong>Veranstalter:</strong><br/>Touristen-Information Nordrach<b
 r /><strong>Termin:</strong><br/>Beginn: 19.12.2026\, 13:30 Uhr<br/>Ende: 
 19.12.2026<br /><strong>Link:</strong><br/><a href='https://ortenaukultur.
 de/fr/evenements/detail/evenement/id/584182-wald-baden-wandernd-den-wald-a
 ls-ort-der-kraft-und-ruhe-entdecken/?vt=1'>Page détaillée </a>
END:VEVENT
END:VCALENDAR
