BEGIN:VCALENDAR
VERSION:2.0
PRODID:-//ortenaukultur.de//NONSGML kigkonsult.se iCalcreator 2.41.92//
CALSCALE:GREGORIAN
METHOD:PUBLISH
UID:32623565-6234-4065-b461-363939653636
X-WR-TIMEZONE:Europe/Berlin
X-LIC-LOCATION:Europe/Berlin
BEGIN:VEVENT
UID:584569-kulturportal@ortenaukultur.de
DTSTAMP:20260422T012214Z
DESCRIPTION:Kurzbeschreibung:\n Jeden letzten Sonntag im Monat findet eine 
 spannende und informative Veranstaltung im Museum in Herrenhaus in Hausach
  statt.\n Ort:\n Museum im Herrenhaus\, Hausach\n Veranstalter:\n Museum i
 m Herrenhaus\n Termin:\n Beginn: 30.08.2026\, 14:30 Uhr\n Ende: 30.08.2026
 \n Tickets:\n Freier Eintritt\n Link:\n Page détaillée
DTSTART;TZID=Europe/Berlin:20260830T143000
DTEND;TZID=Europe/Berlin:20260830T173000
LOCATION:Museum im Herrenhaus\, Hausach
SUMMARY:Museum im Herrenhaus - Monatsveranstaltung \, Museum im Herrenhaus
X-ALT-DESC;FMTTYPE=text/html:<strong>Kurzbeschreibung:</strong><br/>Jeden l
 etzten Sonntag im Monat findet eine spannende und informative Veranstaltun
 g im Museum in Herrenhaus in Hausach statt. <br /><strong>Ort:</strong><br
 />Museum im Herrenhaus\, Hausach<br /><strong>Veranstalter:</strong><br/>M
 useum im Herrenhaus<br /><strong>Termin:</strong><br/>Beginn: 30.08.2026\,
  14:30 Uhr<br/>Ende: 30.08.2026<br /><strong>Tickets: </strong><br/>Freier
  Eintritt<br /><strong>Link:</strong><br/><a href='https://ortenaukultur.d
 e/fr/evenements/detail/evenement/id/584569-museum-im-herrenhaus-monatsvera
 nstaltung/?vt=1'>Page détaillée </a>
END:VEVENT
END:VCALENDAR
