BEGIN:VCALENDAR
VERSION:2.0
PRODID:-//ortenaukultur.de//NONSGML kigkonsult.se iCalcreator 2.41.92//
CALSCALE:GREGORIAN
METHOD:PUBLISH
UID:64303231-3362-4736-b032-343462326236
X-WR-TIMEZONE:Europe/Berlin
X-LIC-LOCATION:Europe/Berlin
BEGIN:VEVENT
UID:584839-kulturportal@ortenaukultur.de
DTSTAMP:20260421T221556Z
DESCRIPTION:Kurzbeschreibung:\n DOD – das Programm\, das so jäh durch die P
 andemie im März 2020 gestoppt wurde\, erfährt im Frühjahr 2025 eine Wieder
 belebung in einer überarbeiteten Version.\n Ort:\n Stadthalle\n Großherzog
 -Friedrich-Str. 19\, 77694 Kehl\n Veranstalter:\n Förderkreis Kultur Karls
 ruhe\, Amalienstr. 40\, 76676 Graben-Neudorf\n Termin:\n Beginn: 04.12.202
 6\n Ende: 04.12.2026\n Tickets:\n Tickets über Reservix\n https://www.rese
 rvix.de/tickets-gerd-dudenhoeffer-spielt-heinz-becker-dod-das-leben-ist-da
 s-ende-in-kehl-stadthalle-kehl-grosser-saal-am-4-12-2026/e2492411\n Ticket
 s ab 47\,30€\n Link:\n Page détaillée
DTSTART;TZID=Europe/Berlin:20261204T000000
DTEND;TZID=Europe/Berlin:20261204T030000
LOCATION:Stadthalle\, Großherzog-Friedrich-Str. 19\, 77694 Kehl
SUMMARY:Gerd Dudenhöffer als Heinz Becker - DOD Das Leben ist das Ende \, S
 tadthalle
X-ALT-DESC;FMTTYPE=text/html:<strong>Kurzbeschreibung:</strong><br/>DOD – d
 as Programm\, das so jäh durch die Pandemie im März 2020 gestoppt wurde\, 
 erfährt im Frühjahr 2025 eine Wiederbelebung in einer überarbeiteten Versi
 on. <br /><strong>Ort:</strong><br/>Stadthalle<br/>Großherzog-Friedrich-St
 r. 19\, 77694 Kehl<br /><strong>Veranstalter:</strong><br/>Förderkreis Kul
 tur Karlsruhe\, Amalienstr. 40\, 76676 Graben-Neudorf <br /><strong>Termin
 :</strong><br/>Beginn: 04.12.2026<br/>Ende: 04.12.2026<br /><strong>Ticket
 s: </strong><br/><a  class='wco_cb_subtitle_link'  id='ticketlink'  href='
 https://www.reservix.de/tickets-gerd-dudenhoeffer-spielt-heinz-becker-dod-
 das-leben-ist-das-ende-in-kehl-stadthalle-kehl-grosser-saal-am-4-12-2026/e
 2492411' target='_blank' title='Öffnet externen Link in einem neuen Fenste
 r'>Tickets über Reservix</a><br/>https://www.reservix.de/tickets-gerd-dude
 nhoeffer-spielt-heinz-becker-dod-das-leben-ist-das-ende-in-kehl-stadthalle
 -kehl-grosser-saal-am-4-12-2026/e2492411<br/>Tickets ab 47\,30€<br /><stro
 ng>Link:</strong><br/><a href='https://ortenaukultur.de/fr/evenements/deta
 il/evenement/id/584839-gerd-dudenhoeffer-als-heinz-becker-dod-das-leben-is
 t-das-ende/?vt=1'>Page détaillée </a>
END:VEVENT
END:VCALENDAR
