BEGIN:VCALENDAR
VERSION:2.0
PRODID:-//ortenaukultur.de//NONSGML kigkonsult.se iCalcreator 2.41.92//
CALSCALE:GREGORIAN
METHOD:PUBLISH
UID:35616264-6566-4534-b264-393836303930
X-WR-TIMEZONE:Europe/Berlin
X-LIC-LOCATION:Europe/Berlin
BEGIN:VEVENT
UID:585178-kulturportal@ortenaukultur.de
DTSTAMP:20260422T141446Z
DESCRIPTION:Kurzbeschreibung:\n Autor Helmut Busam bricht aus dem Alltag au
 s und fährt den Jakobsweg mit einem alten Traktor.\n Ort:\n ´s freche hus
 \n Apothekergasse 7\, 77704 Oberkirch\n Veranstalter:\n Stadt Oberkirch\n 
 Termin:\n Beginn: 12.11.2026\, 19:00 Uhr\n Ende: 12.11.2026\n Tickets:\n A
 chat de billets\n https://ortenaukultur.reservix.de/p/reservix/event/24991
 25\n Preise:\n jusqu'à 8\,00 € + Réduction\n *Toute taxe comprise\n \n Lin
 k:\n Page détaillée
DTSTART;TZID=Europe/Berlin:20261112T190000
DTEND;TZID=Europe/Berlin:20261112T220000
LOCATION:´s freche hus\, Apothekergasse 7\, 77704 Oberkirch
SUMMARY:Eine Reise zu sich selbst\, ´s freche hus
X-ALT-DESC;FMTTYPE=text/html:<strong>Kurzbeschreibung:</strong><br/>Autor H
 elmut Busam bricht aus dem Alltag aus und fährt den Jakobsweg mit einem al
 ten Traktor. <br /><strong>Ort:</strong><br/>´s freche hus<br/>Apothekerga
 sse 7\, 77704 Oberkirch<br /><strong>Veranstalter:</strong><br/>Stadt Ober
 kirch<br /><strong>Termin:</strong><br/>Beginn: 12.11.2026\, 19:00 Uhr<br/
 >Ende: 12.11.2026<br /><strong>Tickets: </strong><br/><a rel='asdf' href='
 https://ortenaukultur.de/fr/detail/billets/id/585178-eine-reise-zu-sich-se
 lbst/?follow=https%253A%252F%252Fortenaukultur.reservix.de%252Fp%252Freser
 vix%252Fevent%252F2499125' target='_blank' title='' id='ticketlink'>Achat 
 de billets</a><br/>https://ortenaukultur.reservix.de/p/reservix/event/2499
 125<br/><b>Preise: </b><br />jusqu&#039\;à 8\,00 &euro\;&nbsp\; + Réductio
 n<br />*Toute taxe comprise<br /><br /><strong>Link:</strong><br/><a href=
 'https://ortenaukultur.de/fr/evenements/detail/evenement/id/585178-eine-re
 ise-zu-sich-selbst/?vt=1'>Page détaillée </a>
END:VEVENT
END:VCALENDAR
