BEGIN:VCALENDAR
VERSION:2.0
PRODID:-//ortenaukultur.de//NONSGML kigkonsult.se iCalcreator 2.41.92//
CALSCALE:GREGORIAN
METHOD:PUBLISH
UID:32373339-3930-4830-a663-306235363037
X-WR-TIMEZONE:Europe/Berlin
X-LIC-LOCATION:Europe/Berlin
BEGIN:VEVENT
UID:585197-kulturportal@ortenaukultur.de
DTSTAMP:20260422T001638Z
DESCRIPTION:Kurzbeschreibung:\n Opéra-comique von Georges Bizet. Libretto v
 on Henri Meilhac und Ludovic Halévy nach der gleichnamigen Novelle von Pro
 sper Mérimée.\n Ort:\n Platz der Verfassungsfreunde / Kulturforum\n Aenne-
 Burda-Allee\, 77654 Offenburg\n Veranstalter:\n Kulturbüro Offenburg\n Ter
 min:\n Beginn: 22.07.2026\, 20:00 Uhr\n Ende: 22.07.2026\n Tickets:\n Acha
 t de billets\n https://ortenaukultur.reservix.de/p/reservix/event/2491556
 \n 1. Kategorie:\n jusqu'à 42\,80 € + Réduction\n 2. Kategorie:\n jusqu'à 
 38\,40 € + Réduction\n 3. Kategorie:\n jusqu'à 34\,00 € + Réduction\n *Tou
 te taxe comprise\n \n Link:\n Page détaillée
DTSTART;TZID=Europe/Berlin:20260722T200000
DTEND;TZID=Europe/Berlin:20260722T230000
LOCATION:Platz der Verfassungsfreunde / Kulturforum\, Aenne-Burda-Allee\, 7
 7654 Offenburg
SUMMARY:Carmen – Opéra-comique von Georges Bizet\, Platz der Verfassungsfre
 unde / Kulturforum
X-ALT-DESC;FMTTYPE=text/html:<strong>Kurzbeschreibung:</strong><br/>Opéra-c
 omique von Georges Bizet. Libretto von Henri Meilhac und Ludovic Halévy na
 ch der gleichnamigen Novelle von Prosper Mérimée. <br /><strong>Ort:</stro
 ng><br/>Platz der Verfassungsfreunde / Kulturforum<br/>Aenne-Burda-Allee\,
  77654 Offenburg<br /><strong>Veranstalter:</strong><br/>Kulturbüro Offenb
 urg<br /><strong>Termin:</strong><br/>Beginn: 22.07.2026\, 20:00 Uhr<br/>E
 nde: 22.07.2026<br /><strong>Tickets: </strong><br/><a rel='asdf' href='ht
 tps://ortenaukultur.de/fr/detail/billets/id/585197-carmen-opera-comique-vo
 n-georges-bizet/?follow=https%253A%252F%252Fortenaukultur.reservix.de%252F
 p%252Freservix%252Fevent%252F2491556' target='_blank' title='' id='ticketl
 ink'>Achat de billets</a><br/>https://ortenaukultur.reservix.de/p/reservix
 /event/2491556<br/><b>1. Kategorie: </b><br />jusqu&#039\;à 42\,80 &euro\;
 &nbsp\; + Réduction<br /><b>2. Kategorie: </b><br />jusqu&#039\;à 38\,40 &
 euro\;&nbsp\; + Réduction<br /><b>3. Kategorie: </b><br />jusqu&#039\;à 34
 \,00 &euro\;&nbsp\; + Réduction<br />*Toute taxe comprise<br /><br /><stro
 ng>Link:</strong><br/><a href='https://ortenaukultur.de/fr/evenements/deta
 il/evenement/id/585197-carmen-opera-comique-von-georges-bizet/?vt=1'>Page 
 détaillée </a>
END:VEVENT
END:VCALENDAR
