BEGIN:VCALENDAR
VERSION:2.0
PRODID:-//ortenaukultur.de//NONSGML kigkonsult.se iCalcreator 2.41.92//
CALSCALE:GREGORIAN
METHOD:PUBLISH
UID:39386235-3930-4135-a362-356135363637
X-WR-TIMEZONE:Europe/Berlin
X-LIC-LOCATION:Europe/Berlin
BEGIN:VEVENT
UID:585791-kulturportal@ortenaukultur.de
DTSTAMP:20260421T233341Z
DESCRIPTION:Kurzbeschreibung:\n GlasMoschd aus Offenburg steht für Vollmilc
 hrock: energiegeladene Rock-Pop-Cover\, handgemacht\, humorvoll und publik
 umsnah!\n Ort:\n Bürgerhaus 'Jergerheim'\, Tulpenweg 16a\, 77656 Offenburg
 \, Offenburg\n Veranstalter:\n Einwohnergemeinschaft Offenburg-Hildboltswe
 ier e.V.\n Termin:\n Beginn: 25.04.2026\, 20:00 Uhr\n Ende: 25.04.2026\n T
 ickets:\n Ticketverkauf: www.ewg-og-hildboltsweier.de oder Abendkasse Eint
 ritt 7\,50 Euro\n https://www.eventim-light.com/de/a/63ce81ff7dbd0f2f929de
 6e2/e/69417be00201793996c03f6c\n 7\,50 Euro\n Link:\n Page détaillée
DTSTART;TZID=Europe/Berlin:20260425T200000
DTEND;TZID=Europe/Berlin:20260425T230000
LOCATION:Bürgerhaus 'Jergerheim'\, Tulpenweg 16a\, 77656 Offenburg\, Offenb
 urg
SUMMARY:GlasMoschd\, Bürgerhaus 'Jergerheim'\, Tulpenweg 16a\, 77656 Offenb
 urg
X-ALT-DESC;FMTTYPE=text/html:<strong>Kurzbeschreibung:</strong><br/>GlasMos
 chd aus Offenburg steht für Vollmilchrock: energiegeladene Rock-Pop-Cover\
 , handgemacht\, humorvoll und publikumsnah!<br /><strong>Ort:</strong><br/
 >Bürgerhaus 'Jergerheim'\, Tulpenweg 16a\, 77656 Offenburg\, Offenburg<br 
 /><strong>Veranstalter:</strong><br/>Einwohnergemeinschaft Offenburg-Hildb
 oltsweier e.V.<br /><strong>Termin:</strong><br/>Beginn: 25.04.2026\, 20:0
 0 Uhr<br/>Ende: 25.04.2026<br /><strong>Tickets: </strong><br/><a  class='
 wco_cb_subtitle_link'  id='ticketlink'  href='https://www.eventim-light.co
 m/de/a/63ce81ff7dbd0f2f929de6e2/e/69417be00201793996c03f6c' target='_blank
 ' title='Öffnet externen Link in einem neuen Fenster'>Ticketverkauf: www.e
 wg-og-hildboltsweier.de oder Abendkasse 	Eintritt 7\,50 Euro</a><br/>https:
 //www.eventim-light.com/de/a/63ce81ff7dbd0f2f929de6e2/e/69417be00201793996
 c03f6c<br/>7\,50 Euro<br /><strong>Link:</strong><br/><a href='https://ort
 enaukultur.de/fr/evenements/detail/evenement/id/585791-glasmoschd/?vt=1'>P
 age détaillée </a>
END:VEVENT
END:VCALENDAR
