BEGIN:VCALENDAR
VERSION:2.0
PRODID:-//ortenaukultur.de//NONSGML kigkonsult.se iCalcreator 2.41.92//
CALSCALE:GREGORIAN
METHOD:PUBLISH
UID:31336232-6436-4263-a633-626463623838
X-WR-TIMEZONE:Europe/Berlin
X-LIC-LOCATION:Europe/Berlin
BEGIN:VEVENT
UID:585905-kulturportal@ortenaukultur.de
DTSTAMP:20260421T203146Z
DESCRIPTION:Kurzbeschreibung:\n Volksschauspiel von Erwin Leisinger „Der ei
 nmalige Dauerbrenner“ - Kein anderes Stück in Deutschland wird seit über 6
 0 Jahren jeden Sommer in\n Ort:\n Freilichtbühne Hornberg\n Am Storenwald\
 , 78132 Hornberg\n Veranstalter:\n Historischer Verein Hornberg e.V.\n Ter
 min:\n Beginn: 23.08.2026\, 16:00 Uhr\n Ende: 23.08.2026\n Tickets:\n Tick
 ets ab 15.03.2026 unter: https://www.freilichtbuehne-hornberg.de/\n Erwach
 sene 14\,00€\n Kinder (3-14 Jahren) 10\,00 €\n Schüler\, Studenten\, Rentn
 er\, Schwer behinderte 12\,00 €\n Begleitperson eines Schwer behinderten m
 it Merkzeichen B/H: (Karten abholung an Kasse) 0\,00 €\n \n Link:\n Page d
 étaillée
DTSTART;TZID=Europe/Berlin:20260823T160000
DTEND;TZID=Europe/Berlin:20260823T190000
LOCATION:Freilichtbühne Hornberg\, Am Storenwald\, 78132 Hornberg
SUMMARY:Das Hornberger Schießen\, Freilichtbühne Hornberg
X-ALT-DESC;FMTTYPE=text/html:<strong>Kurzbeschreibung:</strong><br/>Volkssc
 hauspiel von Erwin Leisinger\n„Der einmalige Dauerbrenner“ - Kein anderes 
 Stück in Deutschland wird seit über 60 Jahren jeden Sommer in<br /><strong
 >Ort:</strong><br/>Freilichtbühne Hornberg<br/>Am Storenwald\, 78132 Hornb
 erg<br /><strong>Veranstalter:</strong><br/>Historischer Verein Hornberg e
 .V.<br /><strong>Termin:</strong><br/>Beginn: 23.08.2026\, 16:00 Uhr<br/>E
 nde: 23.08.2026<br /><strong>Tickets: </strong><br/>Tickets ab 15.03.2026 
 unter: https://www.freilichtbuehne-hornberg.de/<br/>Erwachsene	14\,00€<br /
 >\nKinder (3-14 Jahren) 10\,00 €<br />\nSchüler\, Studenten\, Rentner\, Sc
 hwer­­­behinderte 12\,00 €<br />\nBegleitperson eines Schwer­­­behinderten
  ­­mit Merkzeichen B/H: ­(Karten­abholung ­an Kasse) 0\,00 €<br />\n<br />
 <strong>Link:</strong><br/><a href='https://ortenaukultur.de/fr/evenements
 /detail/evenement/id/585905-das-hornberger-schiessen/?vt=1'>Page détaillée
  </a>
END:VEVENT
END:VCALENDAR
