BEGIN:VCALENDAR
VERSION:2.0
PRODID:-//ortenaukultur.de//NONSGML kigkonsult.se iCalcreator 2.41.92//
CALSCALE:GREGORIAN
METHOD:PUBLISH
UID:63363935-3363-4661-a134-363534363935
X-WR-TIMEZONE:Europe/Berlin
X-LIC-LOCATION:Europe/Berlin
BEGIN:VEVENT
UID:586094-kulturportal@ortenaukultur.de
DTSTAMP:20260421T233351Z
DESCRIPTION:Kurzbeschreibung:\n Was wiegt schwerer: Das Leben Einzelner ode
 r das Leben Vieler? Gerichtsdrama von Ferdinand von Schirach.\n Ort:\n Par
 ktheater\n Kaiserstraße 107\, 77933 Lahr\n Veranstalter:\n LahrKultur\n Te
 rmin:\n Beginn: 29.09.2026\, 20:00 Uhr\n Ende: 29.09.2026\n Tickets:\n Ach
 at de billets\n https://ortenaukultur.reservix.de/p/reservix/event/2542310
 \n 1. Platz:\n jusqu'à 24\,10 € + Réduction\n 2. Platz:\n jusqu'à 20\,80 €
  + Réduction\n 3. Platz:\n jusqu'à 16\,40 € + Réduction\n 4. Platz:\n jusq
 u'à 10\,90 € + Réduction\n *Toute taxe comprise\n \n Link:\n Page détaillé
 e
DTSTART;TZID=Europe/Berlin:20260929T200000
DTEND;TZID=Europe/Berlin:20260929T230000
LOCATION:Parktheater\, Kaiserstraße 107\, 77933 Lahr
SUMMARY:Terror\, Parktheater
X-ALT-DESC;FMTTYPE=text/html:<strong>Kurzbeschreibung:</strong><br/>Was wie
 gt schwerer: Das Leben Einzelner oder das Leben Vieler? \nGerichtsdrama vo
 n Ferdinand von Schirach.<br /><strong>Ort:</strong><br/>Parktheater<br/>K
 aiserstraße 107\, 77933 Lahr<br /><strong>Veranstalter:</strong><br/>LahrK
 ultur<br /><strong>Termin:</strong><br/>Beginn: 29.09.2026\, 20:00 Uhr<br/
 >Ende: 29.09.2026<br /><strong>Tickets: </strong><br/><a rel='asdf' href='
 https://ortenaukultur.de/fr/detail/billets/id/586094-terror/?follow=https%
 253A%252F%252Fortenaukultur.reservix.de%252Fp%252Freservix%252Fevent%252F2
 542310' target='_blank' title='' id='ticketlink'>Achat de billets</a><br/>
 https://ortenaukultur.reservix.de/p/reservix/event/2542310<br/><b>1. Platz
 : </b><br />jusqu&#039\;à 24\,10 &euro\;&nbsp\; + Réduction<br /><b>2. Pla
 tz: </b><br />jusqu&#039\;à 20\,80 &euro\;&nbsp\; + Réduction<br /><b>3. P
 latz: </b><br />jusqu&#039\;à 16\,40 &euro\;&nbsp\; + Réduction<br /><b>4.
  Platz: </b><br />jusqu&#039\;à 10\,90 &euro\;&nbsp\; + Réduction<br />*To
 ute taxe comprise<br /><br /><strong>Link:</strong><br/><a href='https://o
 rtenaukultur.de/fr/evenements/detail/evenement/id/586094-terror/?vt=1'>Pag
 e détaillée </a>
END:VEVENT
END:VCALENDAR
