BEGIN:VCALENDAR
VERSION:2.0
PRODID:-//ortenaukultur.de//NONSGML kigkonsult.se iCalcreator 2.41.92//
CALSCALE:GREGORIAN
METHOD:PUBLISH
UID:65333961-3432-4465-b366-636462316266
X-WR-TIMEZONE:Europe/Berlin
X-LIC-LOCATION:Europe/Berlin
BEGIN:VEVENT
UID:586095-kulturportal@ortenaukultur.de
DTSTAMP:20260422T014310Z
DESCRIPTION:Kurzbeschreibung:\n Libretto von Giuseppe Giacosa und Luigi Ill
 ica nach vier Bilder aus Henri Murgers „Scènes de la vie de bohème“. Musik
  von Giacomo Puccini.\n Ort:\n Parktheater\n Kaiserstraße 107\, 77933 Lahr
 \n Veranstalter:\n LahrKultur\n Termin:\n Beginn: 01.12.2026\, 20:00 Uhr\n
  Ende: 01.12.2026\n Tickets:\n Achat de billets\n https://ortenaukultur.re
 servix.de/p/reservix/event/2542313\n 1. Platz:\n jusqu'à 24\,10 € + Réduct
 ion\n 2. Platz:\n jusqu'à 20\,80 € + Réduction\n 3. Platz:\n jusqu'à 16\,4
 0 € + Réduction\n 4. Platz:\n jusqu'à 10\,90 € + Réduction\n *Toute taxe c
 omprise\n \n Link:\n Page détaillée
DTSTART;TZID=Europe/Berlin:20261201T200000
DTEND;TZID=Europe/Berlin:20261201T230000
LOCATION:Parktheater\, Kaiserstraße 107\, 77933 Lahr
SUMMARY:La Bohème - Oper\, Parktheater
X-ALT-DESC;FMTTYPE=text/html:<strong>Kurzbeschreibung:</strong><br/>Librett
 o von Giuseppe Giacosa und Luigi Illica nach vier Bilder aus Henri Murgers
  „Scènes de la vie de bohème“. Musik von Giacomo Puccini.<br /><strong>Ort
 :</strong><br/>Parktheater<br/>Kaiserstraße 107\, 77933 Lahr<br /><strong>
 Veranstalter:</strong><br/>LahrKultur<br /><strong>Termin:</strong><br/>Be
 ginn: 01.12.2026\, 20:00 Uhr<br/>Ende: 01.12.2026<br /><strong>Tickets: </
 strong><br/><a rel='asdf' href='https://ortenaukultur.de/fr/detail/billets
 /id/586095-la-boheme-oper/?follow=https%253A%252F%252Fortenaukultur.reserv
 ix.de%252Fp%252Freservix%252Fevent%252F2542313' target='_blank' title='' i
 d='ticketlink'>Achat de billets</a><br/>https://ortenaukultur.reservix.de/
 p/reservix/event/2542313<br/><b>1. Platz: </b><br />jusqu&#039\;à 24\,10 &
 euro\;&nbsp\; + Réduction<br /><b>2. Platz: </b><br />jusqu&#039\;à 20\,80
  &euro\;&nbsp\; + Réduction<br /><b>3. Platz: </b><br />jusqu&#039\;à 16\,
 40 &euro\;&nbsp\; + Réduction<br /><b>4. Platz: </b><br />jusqu&#039\;à 10
 \,90 &euro\;&nbsp\; + Réduction<br />*Toute taxe comprise<br /><br /><stro
 ng>Link:</strong><br/><a href='https://ortenaukultur.de/fr/evenements/deta
 il/evenement/id/586095-la-boheme-oper/?vt=1'>Page détaillée </a>
END:VEVENT
END:VCALENDAR
