BEGIN:VCALENDAR
VERSION:2.0
PRODID:-//ortenaukultur.de//NONSGML kigkonsult.se iCalcreator 2.41.92//
CALSCALE:GREGORIAN
METHOD:PUBLISH
UID:63303161-3835-4363-b034-323230613962
X-WR-TIMEZONE:Europe/Berlin
X-LIC-LOCATION:Europe/Berlin
BEGIN:VEVENT
UID:587502-kulturportal@ortenaukultur.de
DTSTAMP:20260422T020949Z
DESCRIPTION:Kurzbeschreibung:\n Ein Sommernachtstraum von William Shakespea
 re – Szenische Lesung mit Musik unterm Freilichthimmel -\n Ort:\n Theaterw
 elt\n Römerstr. 82\, 77694 Kehl-Goldscheuer\n Veranstalter:\n Theaterwelt
 \n Termin:\n Beginn: 25.07.2026\, 20:30 Uhr\n Ende: 25.07.2026\n Tickets:
 \n info@theater-welt.de\n 17€ / 15€ ermäßigt\n Link:\n Page détaillée
DTSTART;TZID=Europe/Berlin:20260725T203000
DTEND;TZID=Europe/Berlin:20260725T233000
LOCATION:Theaterwelt\, Römerstr. 82\, 77694 Kehl-Goldscheuer
SUMMARY:Ein Sommernachtstraum \, Theaterwelt
X-ALT-DESC;FMTTYPE=text/html:<strong>Kurzbeschreibung:</strong><br/>Ein Som
 mernachtstraum von William Shakespeare\n– Szenische Lesung mit Musik unter
 m Freilichthimmel -<br /><strong>Ort:</strong><br/>Theaterwelt<br/>Römerst
 r. 82\, 77694 Kehl-Goldscheuer<br /><strong>Veranstalter:</strong><br/>The
 aterwelt<br /><strong>Termin:</strong><br/>Beginn: 25.07.2026\, 20:30 Uhr<
 br/>Ende: 25.07.2026<br /><strong>Tickets: </strong><br/><a  class='wco_cb
 _subtitle_link'  id='ticketlink'  href='mailto:info@theater-welt.de' targe
 t='_blank' >info@theater-welt.de</a><br/>17€ / 15€ ermäßigt<br /><strong>L
 ink:</strong><br/><a href='https://ortenaukultur.de/fr/evenements/detail/e
 venement/id/587502-ein-sommernachtstraum/?vt=1'>Page détaillée </a>
END:VEVENT
END:VCALENDAR
