BEGIN:VCALENDAR
VERSION:2.0
PRODID:-//ortenaukultur.de//NONSGML kigkonsult.se iCalcreator 2.41.92//
CALSCALE:GREGORIAN
METHOD:PUBLISH
UID:61636264-3035-4263-b033-333762336166
X-WR-TIMEZONE:Europe/Berlin
X-LIC-LOCATION:Europe/Berlin
BEGIN:VEVENT
UID:588311-kulturportal@ortenaukultur.de
DTSTAMP:20260421T215350Z
DESCRIPTION:Kurzbeschreibung:\n Raqs Sharqi\, auch bekannt als orientalisch
 er Tanz oder Bauchtanz\, ist eine Tanzform\, die sich durch fließende Bewe
 gungen von Hüfte und Oberkörper auszeichnet.\n Ort:\n TSC Clubheim\, Am St
 adion 3\, Achern\n Veranstalter:\n Tanzsportclub Achern e.V.\n Termin:\n B
 eginn: 20.06.2026\, 14:00 Uhr\n Ende: 20.06.2026\n Tickets:\n 24\,-€ / Zah
 lbar vor Ort in bar / Anmeldung über Hompage www.tsc-achern.net oder per M
 ail an kontakt@tsc-achern.net\n Link:\n Page détaillée
DTSTART;TZID=Europe/Berlin:20260620T140000
DTEND;TZID=Europe/Berlin:20260620T170000
LOCATION:TSC Clubheim\, Am Stadion 3\, Achern
SUMMARY:'Raqs Sharqi' orientalischer Tanz (Bauchtanz) 06-2026\, TSC Clubhei
 m\, Am Stadion 3
X-ALT-DESC;FMTTYPE=text/html:<strong>Kurzbeschreibung:</strong><br/>Raqs Sh
 arqi\, auch bekannt als orientalischer Tanz oder Bauchtanz\, ist eine Tanz
 form\, die sich durch fließende Bewegungen von Hüfte und Oberkörper auszei
 chnet. <br /><strong>Ort:</strong><br/>TSC Clubheim\, Am Stadion 3\, Acher
 n<br /><strong>Veranstalter:</strong><br/>Tanzsportclub Achern e.V.<br /><
 strong>Termin:</strong><br/>Beginn: 20.06.2026\, 14:00 Uhr<br/>Ende: 20.06
 .2026<br /><strong>Tickets: </strong><br/>24\,-€ / Zahlbar vor Ort in bar 
 / Anmeldung über Hompage www.tsc-achern.net oder per Mail an kontakt@tsc-a
 chern.net<br /><strong>Link:</strong><br/><a href='https://ortenaukultur.d
 e/fr/evenements/detail/evenement/id/588311-raqs-sharqi-orientalischer-tanz
 -bauchtanz-06-2026/?vt=1'>Page détaillée </a>
END:VEVENT
END:VCALENDAR
