BEGIN:VCALENDAR
VERSION:2.0
PRODID:-//ortenaukultur.de//NONSGML kigkonsult.se iCalcreator 2.41.92//
CALSCALE:GREGORIAN
METHOD:PUBLISH
UID:62653237-6265-4235-b366-313239303338
X-WR-TIMEZONE:Europe/Berlin
X-LIC-LOCATION:Europe/Berlin
BEGIN:VEVENT
UID:588478-kulturportal@ortenaukultur.de
DTSTAMP:20260422T015715Z
DESCRIPTION:Kurzbeschreibung:\n Der Illenauer Friedhof gehört zur ehemalige
 n großherzoglich-badischen Heil- und Pflegeanstalt Illenau. Patienten\, Är
 zte und Personal fanden hier ihre letzte\n Ort:\n Illenauer Friedhof\n Hor
 nisgrindestr. 40\, 77855 Achern\n Veranstalter:\n Stadt Achern - FG3.3 - T
 ourist-Info\n Termin:\n Beginn: 05.06.2026\, 18:00 Uhr\n Ende: 05.06.2026
 \n Link:\n Page détaillée
DTSTART;TZID=Europe/Berlin:20260605T180000
DTEND;TZID=Europe/Berlin:20260605T210000
LOCATION:Illenauer Friedhof\, Hornisgrindestr. 40\, 77855 Achern
SUMMARY:Achern - Führung über den Illenauer Friedhof\, Illenauer Friedhof
X-ALT-DESC;FMTTYPE=text/html:<strong>Kurzbeschreibung:</strong><br/>Der Ill
 enauer Friedhof gehört zur ehemaligen großherzoglich-badischen Heil- und P
 flegeanstalt Illenau. Patienten\, Ärzte und Personal fanden hier ihre letz
 te<br /><strong>Ort:</strong><br/>Illenauer Friedhof<br/>Hornisgrindestr. 
 40\, 77855 Achern<br /><strong>Veranstalter:</strong><br/>Stadt Achern - F
 G3.3 - Tourist-Info<br /><strong>Termin:</strong><br/>Beginn: 05.06.2026\,
  18:00 Uhr<br/>Ende: 05.06.2026<br /><strong>Link:</strong><br/><a href='h
 ttps://ortenaukultur.de/fr/evenements/detail/evenement/id/588478-achern-fu
 ehrung-ueber-den-illenauer-friedhof/?vt=1'>Page détaillée </a>
END:VEVENT
END:VCALENDAR
