BEGIN:VCALENDAR
VERSION:2.0
PRODID:-//ortenaukultur.de//NONSGML kigkonsult.se iCalcreator 2.41.92//
CALSCALE:GREGORIAN
METHOD:PUBLISH
UID:33303233-6262-4333-a466-613062303336
X-WR-TIMEZONE:Europe/Berlin
X-LIC-LOCATION:Europe/Berlin
BEGIN:VEVENT
UID:588496-kulturportal@ortenaukultur.de
DTSTAMP:20260421T225105Z
DESCRIPTION:Kurzbeschreibung:\n Spannende Einblicke in die Vergangenheit. M
 it dem Mühlenwart Harald auf Zeitreise.\n Ort:\n Museen beim Rathausplatz
 \n Dorf 30\, 77784 Oberharmersbach\n Veranstalter:\n Gemeinde Oberharmersb
 ach\n Termin:\n Beginn: 21.04.2026\, 16:30 Uhr\n Ende: 21.04.2026\n Ticket
 s:\n Eintritt frei!\n Link:\n Page détaillée
DTSTART;TZID=Europe/Berlin:20260421T163000
DTEND;TZID=Europe/Berlin:20260421T193000
LOCATION:Museen beim Rathausplatz\, Dorf 30\, 77784 Oberharmersbach
SUMMARY:Kostenlose Besichtigung der Alten Mühle mit Mahlvorführung\, Rathau
 splatz
X-ALT-DESC;FMTTYPE=text/html:<strong>Kurzbeschreibung:</strong><br/>Spannen
 de Einblicke in die Vergangenheit.  Mit dem Mühlenwart Harald auf Zeitreis
 e.<br /><strong>Ort:</strong><br/>Museen beim Rathausplatz<br/>Dorf 30\, 7
 7784 Oberharmersbach<br /><strong>Veranstalter:</strong><br/>Gemeinde Ober
 harmersbach<br /><strong>Termin:</strong><br/>Beginn: 21.04.2026\, 16:30 U
 hr<br/>Ende: 21.04.2026<br /><strong>Tickets: </strong><br/>Eintritt frei!
 <br /><strong>Link:</strong><br/><a href='https://ortenaukultur.de/fr/even
 ements/detail/evenement/id/588496-kostenlose-besichtigung-der-alten-muehle
 -mit-mahlvorfuehrung/?vt=1'>Page détaillée </a>
END:VEVENT
END:VCALENDAR
