BEGIN:VCALENDAR
VERSION:2.0
PRODID:-//ortenaukultur.de//NONSGML kigkonsult.se iCalcreator 2.41.92//
CALSCALE:GREGORIAN
METHOD:PUBLISH
UID:31363734-3861-4666-b134-626236376136
X-WR-TIMEZONE:Europe/Berlin
X-LIC-LOCATION:Europe/Berlin
BEGIN:VEVENT
UID:588663-kulturportal@ortenaukultur.de
DTSTAMP:20260422T005500Z
DESCRIPTION:Kurzbeschreibung:\n Mit Ludwig Hillenbrand\, Ulrike Derndinger 
 und der Nordracher Stubenmusik Anmeldung: 07838 929920\, touristen-info@no
 rdrach.de\n Ort:\n Höhengasthaus 'Vogt auf Mühlstein'\n Mühlstein 1\, 7778
 7 Nordrach - Mühlstein\n Veranstalter:\n Katholisches Bildungswerk Nordrac
 h\n Termin:\n Beginn: 03.12.2026\, 19:00 Uhr\n Ende: 03.12.2026\n Link:\n 
 Page détaillée
DTSTART;TZID=Europe/Berlin:20261203T190000
DTEND;TZID=Europe/Berlin:20261203T220000
LOCATION:Höhengasthaus 'Vogt auf Mühlstein'\, Mühlstein 1\, 77787 Nordrach 
 - Mühlstein
SUMMARY:'Z-Licht geh´n' auf dem Mühlstein! Geschichten und Musik\, Höhengas
 thaus 'Vogt auf Mühlstein'
X-ALT-DESC;FMTTYPE=text/html:<strong>Kurzbeschreibung:</strong><br/>Mit Lud
 wig Hillenbrand\, Ulrike Derndinger und der Nordracher Stubenmusik \nAnmel
 dung: 07838 929920\, touristen-info@nordrach.de<br /><strong>Ort:</strong>
 <br/>Höhengasthaus 'Vogt auf Mühlstein'<br/>Mühlstein 1\, 77787 Nordrach -
  Mühlstein<br /><strong>Veranstalter:</strong><br/>Katholisches Bildungswe
 rk Nordrach<br /><strong>Termin:</strong><br/>Beginn: 03.12.2026\, 19:00 U
 hr<br/>Ende: 03.12.2026<br /><strong>Link:</strong><br/><a href='https://o
 rtenaukultur.de/fr/evenements/detail/evenement/id/588663-z-licht-geh-n-auf
 -dem-muehlstein-geschichten-und-musik/?vt=1'>Page détaillée </a>
END:VEVENT
END:VCALENDAR
