BEGIN:VCALENDAR
VERSION:2.0
PRODID:-//ortenaukultur.de//NONSGML kigkonsult.se iCalcreator 2.41.92//
CALSCALE:GREGORIAN
METHOD:PUBLISH
UID:64313563-6464-4837-b733-656466353264
X-WR-TIMEZONE:Europe/Berlin
X-LIC-LOCATION:Europe/Berlin
BEGIN:VEVENT
UID:588841-kulturportal@ortenaukultur.de
DTSTAMP:20260422T005342Z
DESCRIPTION:Kurzbeschreibung:\n Der Historische Verein Schiltach/Schenkenze
 ll lädt am Donnerstag\, 23.04.2026 um 17:00 Uhr recht herzlich ein.\n Ort:
 \n Bürgerhaus Schenkenzell\n Schulstraße 2\, 77773 Schenkenzell\n Veransta
 lter:\n Historischer Verein Schiltach/Schenkenzell e.V.\n Termin:\n Beginn
 : 23.04.2026\, 17:00 Uhr\n Ende: 23.04.2026\n Link:\n Page détaillée
DTSTART;TZID=Europe/Berlin:20260423T170000
DTEND;TZID=Europe/Berlin:20260423T200000
LOCATION:Bürgerhaus Schenkenzell\, Schulstraße 2\, 77773 Schenkenzell
SUMMARY:Bildvortrag 'Weisch no?' Bilder wecken Erinnerungen\, Bürgerhaus Sc
 henkenzell
X-ALT-DESC;FMTTYPE=text/html:<strong>Kurzbeschreibung:</strong><br/>Der His
 torische Verein Schiltach/Schenkenzell lädt am Donnerstag\, 23.04.2026 um 
 17:00 Uhr recht herzlich ein. <br /><strong>Ort:</strong><br/>Bürgerhaus S
 chenkenzell<br/>Schulstraße 2\, 77773 Schenkenzell<br /><strong>Veranstalt
 er:</strong><br/>Historischer Verein Schiltach/Schenkenzell e.V.<br /><str
 ong>Termin:</strong><br/>Beginn: 23.04.2026\, 17:00 Uhr<br/>Ende: 23.04.20
 26<br /><strong>Link:</strong><br/><a href='https://ortenaukultur.de/fr/ev
 enements/detail/evenement/id/588841-bildvortrag-weisch-no-bilder-wecken-er
 innerungen/?vt=1'>Page détaillée </a>
END:VEVENT
END:VCALENDAR
