BEGIN:VCALENDAR
VERSION:2.0
PRODID:-//ortenaukultur.de//NONSGML kigkonsult.se iCalcreator 2.41.92//
CALSCALE:GREGORIAN
METHOD:PUBLISH
UID:62313262-6666-4062-b538-343633373834
X-WR-TIMEZONE:Europe/Berlin
X-LIC-LOCATION:Europe/Berlin
BEGIN:VEVENT
UID:588882-kulturportal@ortenaukultur.de
DTSTAMP:20260422T174801Z
DESCRIPTION:Kurzbeschreibung:\n Seien Sie dabei\, wenn es heißt 'was Vater 
 und Mutter nicht richten können\, richtet der Henker!'\n Ort:\n Treffpunkt
 : Brunnen vor kath. Kirche Hausach\n Hauptstr.\, 77756 Hausach\n Veranstal
 ter:\n Brigitte Sum - Herrmann\n Termin:\n Beginn: 29.10.2026\, 18:00 Uhr
 \n Ende: 29.10.2026\n Tickets:\n Preis: 12\,00 €\,\n Anmeldung: bis 26.10.
 2026 unter Tel.: 0151 14442143\n Link:\n Page détaillée
DTSTART;TZID=Europe/Berlin:20261029T180000
DTEND;TZID=Europe/Berlin:20261029T210000
LOCATION:Treffpunkt: Brunnen vor kath. Kirche Hausach\, Hauptstr.\, 77756 H
 ausach
SUMMARY:Mit der Henkersfrau Antonia Seidel durch's Hausacher Städtle\, im g
 anzen Städtle
X-ALT-DESC;FMTTYPE=text/html:<strong>Kurzbeschreibung:</strong><br/>Seien S
 ie dabei\, wenn es heißt 'was Vater und Mutter nicht richten können\, rich
 tet der Henker!'<br /><strong>Ort:</strong><br/>Treffpunkt: Brunnen vor ka
 th. Kirche Hausach<br/>Hauptstr.\, 77756 Hausach<br /><strong>Veranstalter
 :</strong><br/>Brigitte Sum - Herrmann<br /><strong>Termin:</strong><br/>B
 eginn: 29.10.2026\, 18:00 Uhr<br/>Ende: 29.10.2026<br /><strong>Tickets: <
 /strong><br/>Preis: 12\,00 €\,<br />\nAnmeldung: bis 26.10.2026 unter Tel.
 : 0151 14442143<br /><strong>Link:</strong><br/><a href='https://ortenauku
 ltur.de/fr/evenements/detail/evenement/id/588882-mit-der-henkersfrau-anton
 ia-seidel-durch-s-hausacher-staedtle/?vt=1'>Page détaillée </a>
END:VEVENT
END:VCALENDAR
