BEGIN:VCALENDAR
VERSION:2.0
PRODID:-//ortenaukultur.de//NONSGML kigkonsult.se iCalcreator 2.41.92//
CALSCALE:GREGORIAN
METHOD:PUBLISH
UID:30626166-3064-4437-b130-623731353030
X-WR-TIMEZONE:Europe/Berlin
X-LIC-LOCATION:Europe/Berlin
BEGIN:VEVENT
UID:588965-kulturportal@ortenaukultur.de
DTSTAMP:20260422T014713Z
DESCRIPTION:Kurzbeschreibung:\n Andreas Rebers gastiert wieder einmal mit s
 einem neuen Programm\, Rein geschäftlich\, in der Reithalle Offenburg\n Or
 t:\n Reithalle im Kulturforum\n Moltkestraße 31\, 77654 Offenburg\n Verans
 talter:\n Kulturbüro Offenburg\n Termin:\n Beginn: 26.02.2027\, 20:00 Uhr
 \n Ende: 26.02.2027\n Tickets:\n Achat de billets\n https://ortenaukultur.
 reservix.de/p/reservix/event/2516302\n 1. Kategorie:\n jusqu'à 28\,50 € + 
 Réduction\n *Toute taxe comprise\n \n Link:\n Page détaillée
DTSTART;TZID=Europe/Berlin:20270226T200000
DTEND;TZID=Europe/Berlin:20270226T230000
LOCATION:Reithalle im Kulturforum\, Moltkestraße 31\, 77654 Offenburg
SUMMARY:Andreas Rebers - Rein geschäftlich: Bilanz \, Reithalle im Kulturfo
 rum
X-ALT-DESC;FMTTYPE=text/html:<strong>Kurzbeschreibung:</strong><br/>Andreas
  Rebers gastiert wieder einmal mit seinem neuen Programm\, Rein geschäftli
 ch\, in der Reithalle Offenburg<br /><strong>Ort:</strong><br/>Reithalle i
 m Kulturforum<br/>Moltkestraße 31\, 77654 Offenburg<br /><strong>Veranstal
 ter:</strong><br/>Kulturbüro Offenburg<br /><strong>Termin:</strong><br/>B
 eginn: 26.02.2027\, 20:00 Uhr<br/>Ende: 26.02.2027<br /><strong>Tickets: <
 /strong><br/><a rel='asdf' href='https://ortenaukultur.de/fr/detail/billet
 s/id/588965-andreas-rebers-rein-geschaeftlich-bilanz/?follow=https%253A%25
 2F%252Fortenaukultur.reservix.de%252Fp%252Freservix%252Fevent%252F2516302'
  target='_blank' title='' id='ticketlink'>Achat de billets</a><br/>https:/
 /ortenaukultur.reservix.de/p/reservix/event/2516302<br/><b>1. Kategorie: <
 /b><br />jusqu&#039\;à 28\,50 &euro\;&nbsp\; + Réduction<br />*Toute taxe 
 comprise<br /><br /><strong>Link:</strong><br/><a href='https://ortenaukul
 tur.de/fr/evenements/detail/evenement/id/588965-andreas-rebers-rein-gescha
 eftlich-bilanz/?vt=1'>Page détaillée </a>
END:VEVENT
END:VCALENDAR
