BEGIN:VCALENDAR
VERSION:2.0
PRODID:-//ortenaukultur.de//NONSGML kigkonsult.se iCalcreator 2.41.92//
CALSCALE:GREGORIAN
METHOD:PUBLISH
UID:62613634-3136-4462-b130-336633643837
X-WR-TIMEZONE:Europe/Berlin
X-LIC-LOCATION:Europe/Berlin
BEGIN:VEVENT
UID:588967-kulturportal@ortenaukultur.de
DTSTAMP:20260421T201114Z
DESCRIPTION:Kurzbeschreibung:\n Es darf wieder gelacht werden ! Eine weiter
 e Folge von Comedy Flex in der Reithalle Offenburg.\n Ort:\n Reithalle im 
 Kulturforum\n Moltkestraße 31\, 77654 Offenburg\n Veranstalter:\n Kulturbü
 ro Offenburg\n Termin:\n Beginn: 08.04.2027\, 20:00 Uhr\n Ende: 08.04.2027
 \n Tickets:\n Achat de billets\n https://ortenaukultur.reservix.de/p/reser
 vix/event/2516308\n 1. Kategorie:\n jusqu'à 25\,20 € + Réduction\n *Toute 
 taxe comprise\n \n Link:\n Page détaillée
DTSTART;TZID=Europe/Berlin:20270408T200000
DTEND;TZID=Europe/Berlin:20270408T230000
LOCATION:Reithalle im Kulturforum\, Moltkestraße 31\, 77654 Offenburg
SUMMARY:Comedy Flex\, Reithalle im Kulturforum
X-ALT-DESC;FMTTYPE=text/html:<strong>Kurzbeschreibung:</strong><br/>Es darf
  wieder gelacht werden ! Eine weitere Folge von Comedy Flex in der Reithal
 le Offenburg.<br /><strong>Ort:</strong><br/>Reithalle im Kulturforum<br/>
 Moltkestraße 31\, 77654 Offenburg<br /><strong>Veranstalter:</strong><br/>
 Kulturbüro Offenburg<br /><strong>Termin:</strong><br/>Beginn: 08.04.2027\
 , 20:00 Uhr<br/>Ende: 08.04.2027<br /><strong>Tickets: </strong><br/><a re
 l='asdf' href='https://ortenaukultur.de/fr/detail/billets/id/588967-comedy
 -flex/?follow=https%253A%252F%252Fortenaukultur.reservix.de%252Fp%252Frese
 rvix%252Fevent%252F2516308' target='_blank' title='' id='ticketlink'>Achat
  de billets</a><br/>https://ortenaukultur.reservix.de/p/reservix/event/251
 6308<br/><b>1. Kategorie: </b><br />jusqu&#039\;à 25\,20 &euro\;&nbsp\; + 
 Réduction<br />*Toute taxe comprise<br /><br /><strong>Link:</strong><br/>
 <a href='https://ortenaukultur.de/fr/evenements/detail/evenement/id/588967
 -comedy-flex/?vt=1'>Page détaillée </a>
END:VEVENT
END:VCALENDAR
