BEGIN:VCALENDAR
VERSION:2.0
PRODID:-//ortenaukultur.de//NONSGML kigkonsult.se iCalcreator 2.41.92//
CALSCALE:GREGORIAN
METHOD:PUBLISH
UID:37616361-3965-4363-a539-366566306465
X-WR-TIMEZONE:Europe/Berlin
X-LIC-LOCATION:Europe/Berlin
BEGIN:VEVENT
UID:589149-kulturportal@ortenaukultur.de
DTSTAMP:20260423T040014Z
DESCRIPTION:Kurzbeschreibung:\n Die Führung für Jedermann mit Stadtführerin
  Billy Sum-Herrmann findet in der Reihe DORT statt.\n Ort:\n Historische F
 achwerkaltstadt\n Marktplatz\, 77716 Haslach\n Veranstalter:\n Stadt Hasla
 ch - Kultur und Marketing\n Termin:\n Beginn: 23.05.2026\, 18:00 Uhr\n End
 e: 23.05.2026\n Tickets:\n Erwachsener 12\,00 € pro Person\n \n Link:\n Pa
 ge détaillée
DTSTART;TZID=Europe/Berlin:20260523T180000
DTEND;TZID=Europe/Berlin:20260523T210000
LOCATION:Historische Fachwerkaltstadt\, Marktplatz\, 77716 Haslach
SUMMARY:Die besondere Stadtführung: die Sprücheklopfer Tour\, Historische F
 achwerkaltstadt
X-ALT-DESC;FMTTYPE=text/html:<strong>Kurzbeschreibung:</strong><br/>Die Füh
 rung für Jedermann mit Stadtführerin Billy Sum-Herrmann findet in der Reih
 e DORT statt. <br /><strong>Ort:</strong><br/>Historische Fachwerkaltstadt
 <br/>Marktplatz\, 77716 Haslach<br /><strong>Veranstalter:</strong><br/>St
 adt Haslach - Kultur und Marketing<br /><strong>Termin:</strong><br/>Begin
 n: 23.05.2026\, 18:00 Uhr<br/>Ende: 23.05.2026<br /><strong>Tickets: </str
 ong><br/>Erwachsener 12\,00 € pro Person<br />\n<br /><strong>Link:</stron
 g><br/><a href='https://ortenaukultur.de/fr/evenements/detail/evenement/id
 /589149-die-besondere-stadtfuehrung-die-spruecheklopfer-tour/?vt=1'>Page d
 étaillée </a>
END:VEVENT
END:VCALENDAR
