BEGIN:VCALENDAR
VERSION:2.0
PRODID:-//ortenaukultur.de//NONSGML kigkonsult.se iCalcreator 2.41.92//
CALSCALE:GREGORIAN
METHOD:PUBLISH
UID:38633734-3762-4463-a534-326136636138
X-WR-TIMEZONE:Europe/Berlin
X-LIC-LOCATION:Europe/Berlin
BEGIN:VEVENT
UID:589256-kulturportal@ortenaukultur.de
DTSTAMP:20260422T223159Z
DESCRIPTION:Kurzbeschreibung:\n Lässige Sunset-Vibes\, Big Bottles und lege
 ndäre Sonnenuntergänge warten auf Euch!\n Ort:\n zum Heuberg\n Heubergstra
 ße\, 77955 Ettenheim\n Veranstalter:\n Weingut Weber\n Termin:\n Beginn: 3
 1.07.2026\, 18:00 Uhr\n Ende: 31.07.2026\n Link:\n Page détaillée
DTSTART;TZID=Europe/Berlin:20260731T180000
DTEND;TZID=Europe/Berlin:20260731T210000
LOCATION:zum Heuberg\, Heubergstraße\, 77955 Ettenheim
SUMMARY:SUNDOWNER DJ-Set\, zum Heuberg
X-ALT-DESC;FMTTYPE=text/html:<strong>Kurzbeschreibung:</strong><br/>Lässige
  Sunset-Vibes\, Big Bottles und legendäre Sonnenuntergänge warten auf Euch
 ! <br /><strong>Ort:</strong><br/>zum Heuberg<br/>Heubergstraße\, 77955 Et
 tenheim<br /><strong>Veranstalter:</strong><br/>Weingut Weber<br /><strong
 >Termin:</strong><br/>Beginn: 31.07.2026\, 18:00 Uhr<br/>Ende: 31.07.2026<
 br /><strong>Link:</strong><br/><a href='https://ortenaukultur.de/fr/evene
 ments/detail/evenement/id/589256-sundowner-dj-set/?vt=1'>Page détaillée </
 a>
END:VEVENT
END:VCALENDAR
