BEGIN:VCALENDAR
VERSION:2.0
PRODID:-//ortenaukultur.de//NONSGML kigkonsult.se iCalcreator 2.41.92//
CALSCALE:GREGORIAN
METHOD:PUBLISH
UID:62663962-3233-4131-b561-663238316437
X-WR-TIMEZONE:Europe/Berlin
X-LIC-LOCATION:Europe/Berlin
BEGIN:VEVENT
UID:589393-kulturportal@ortenaukultur.de
DTSTAMP:20260422T223759Z
DESCRIPTION:Kurzbeschreibung:\n Lahr birgt zahlreiche Geschichten und hat v
 iele interessante Persönlichkeiten hervorgebracht.\n Ort:\n Treffpunkt: St
 adtmuseum Lahr\, Kreuzstraße 6\n Rathausplatz 4\, 77933 Lahr\n Veranstalte
 r:\n Stadt Lahr Stadtmarketing\n Termin:\n Beginn: 01.05.2026\, 17:00 Uhr
 \n Ende: 01.05.2026\n Tickets:\n \n https://erlebe.lahr.de/oeffentliche-fu
 ehrungen-buchen.274465.htm#/experience/FIT00020072495325784\n Diese Führun
 g kostet 5 Euro pro Person.\n \n Link:\n Page détaillée
DTSTART;TZID=Europe/Berlin:20260501T170000
DTEND;TZID=Europe/Berlin:20260501T200000
LOCATION:Treffpunkt: Stadtmuseum Lahr\, Kreuzstraße 6\, Rathausplatz 4\, 77
 933 Lahr
SUMMARY:Stadtführung - Führung durch die historische Innenstadt\, Rathauspl
 atz
X-ALT-DESC;FMTTYPE=text/html:<strong>Kurzbeschreibung:</strong><br/>Lahr bi
 rgt zahlreiche Geschichten und hat viele interessante Persönlichkeiten her
 vorgebracht. <br /><strong>Ort:</strong><br/>Treffpunkt: Stadtmuseum Lahr\
 , Kreuzstraße 6<br/>Rathausplatz 4\, 77933 Lahr<br /><strong>Veranstalter:
 </strong><br/>Stadt Lahr Stadtmarketing<br /><strong>Termin:</strong><br/>
 Beginn: 01.05.2026\, 17:00 Uhr<br/>Ende: 01.05.2026<br /><strong>Tickets: 
 </strong><br/><a  class='wco_cb_subtitle_link'  id='ticketlink'  href='htt
 ps://erlebe.lahr.de/oeffentliche-fuehrungen-buchen.274465.htm#/experience/
 FIT00020072495325784'  title='Öffnet externen Link https://erlebe.lahr.de/
 oeffentliche-fuehrungen-buchen.274465.htm'></a><br/>https://erlebe.lahr.de
 /oeffentliche-fuehrungen-buchen.274465.htm#/experience/FIT0002007249532578
 4<br/>Diese Führung kostet 5 Euro pro Person.<br />\n<br /><strong>Link:</
 strong><br/><a href='https://ortenaukultur.de/fr/evenements/detail/eveneme
 nt/id/589393-stadtfuehrung-fuehrung-durch-die-historische-innenstadt/?vt=1
 '>Page détaillée </a>
END:VEVENT
END:VCALENDAR
