BEGIN:VCALENDAR
VERSION:2.0
PRODID:-//ortenaukultur.de//NONSGML kigkonsult.se iCalcreator 2.41.92//
CALSCALE:GREGORIAN
METHOD:PUBLISH
UID:34363165-3133-4534-b533-353637343162
X-WR-TIMEZONE:Europe/Berlin
X-LIC-LOCATION:Europe/Berlin
BEGIN:VEVENT
UID:590015-kulturportal@ortenaukultur.de
DTSTAMP:20260421T221803Z
DESCRIPTION:Kurzbeschreibung:\n Entdecken Sie auf unserer hofeigenen Wiese 
 die Vielfalt der wilden Kräuter.\n Ort:\n Privatgrundstück\n Ludwigstr.\, 
 77960 Seelbach\n Veranstalter:\n Gemeinde Seelbach\n Termin:\n Beginn: 07.
 05.2026\, 18:00 Uhr\n Ende: 07.05.2026\n Tickets:\n 20\,00 € - Bezahlung v
 or Ort\n \n Anmeldung unter:\n tourismus@seelbach-online.de\; Tel: 07823-9
 494-52\;\n und beim Veranstalter: Frau Himmelsbach\; nfo@haagseppenhof.de\
 ; Tel: 07823/1898\n \n Die Veranstaltung findet ab 8 - 14 Personen statt\n
  Anmeldung möglich bis 1 tag vor der Veranstaltung\n Link:\n Page détaillé
 e
DTSTART;TZID=Europe/Berlin:20260507T180000
DTEND;TZID=Europe/Berlin:20260507T210000
LOCATION:Privatgrundstück\, Ludwigstr.\, 77960 Seelbach
SUMMARY:Wildkräuterführung\, Privatgrundstück
X-ALT-DESC;FMTTYPE=text/html:<strong>Kurzbeschreibung:</strong><br/>Entdeck
 en Sie auf unserer hofeigenen Wiese die Vielfalt der wilden Kräuter.<br />
 <strong>Ort:</strong><br/>Privatgrundstück<br/>Ludwigstr.\, 77960 Seelbach
 <br /><strong>Veranstalter:</strong><br/>Gemeinde Seelbach<br /><strong>Te
 rmin:</strong><br/>Beginn: 07.05.2026\, 18:00 Uhr<br/>Ende: 07.05.2026<br 
 /><strong>Tickets: </strong><br/>20\,00 € - Bezahlung vor Ort<br />\n<br /
 >\nAnmeldung unter:<br />\ntourismus@seelbach-online.de\; Tel: 07823-9494-
 52\; <br />\nund beim Veranstalter: Frau Himmelsbach\; nfo@haagseppenhof.d
 e\; Tel: 07823/1898 <br />\n<br />\nDie Veranstaltung findet ab 8 - 14 Per
 sonen statt<br />\nAnmeldung möglich bis 1 tag vor der Veranstaltung<br />
 <strong>Link:</strong><br/><a href='https://ortenaukultur.de/fr/evenements
 /detail/evenement/id/590015-wildkraeuterfuehrung/?vt=1'>Page détaillée </a
 >
END:VEVENT
END:VCALENDAR
