BEGIN:VCALENDAR
VERSION:2.0
PRODID:-//ortenaukultur.de//NONSGML kigkonsult.se iCalcreator 2.41.92//
CALSCALE:GREGORIAN
METHOD:PUBLISH
UID:34616464-3534-4464-a134-613866323035
X-WR-TIMEZONE:Europe/Berlin
X-LIC-LOCATION:Europe/Berlin
BEGIN:VEVENT
UID:590017-kulturportal@ortenaukultur.de
DTSTAMP:20260422T004715Z
DESCRIPTION:Kurzbeschreibung:\n Die Fotos der Ausstellung zeigen einen Quer
 schnitt meiner Arbeiten der letzten 5 Jahre aus den Themen Street- und Lan
 dschaftsfotografie.\n Ort:\n Kreuzgang - Rathaus Seelbach\n Hauptstr. 7\, 
 77960 Seelbach\n Veranstalter:\n Gemeinde Seelbach\n Termin:\n Beginn: 17.
 07.2026\, 19:00 Uhr\n Ende: 17.07.2026\n Tickets:\n Eintritt frei\n Link:
 \n Page détaillée
DTSTART;TZID=Europe/Berlin:20260717T190000
DTEND;TZID=Europe/Berlin:20260717T220000
LOCATION:Kreuzgang - Rathaus Seelbach\, Hauptstr. 7\, 77960 Seelbach
SUMMARY:Vernissage Street & more - Schwarz-Weiß-Fotografie\, Kreuzgang - Ra
 thaus Seelbach
X-ALT-DESC;FMTTYPE=text/html:<strong>Kurzbeschreibung:</strong><br/>Die Fot
 os der Ausstellung zeigen einen Querschnitt meiner Arbeiten der letzten 5 
 Jahre aus den Themen Street- und Landschaftsfotografie.<br /><strong>Ort:<
 /strong><br/>Kreuzgang - Rathaus Seelbach<br/>Hauptstr. 7\, 77960 Seelbach
 <br /><strong>Veranstalter:</strong><br/>Gemeinde Seelbach<br /><strong>Te
 rmin:</strong><br/>Beginn: 17.07.2026\, 19:00 Uhr<br/>Ende: 17.07.2026<br 
 /><strong>Tickets: </strong><br/>Eintritt frei<br /><strong>Link:</strong>
 <br/><a href='https://ortenaukultur.de/fr/evenements/detail/evenement/id/5
 90017-vernissage-street-more-schwarz-weiss-fotografie/?vt=1'>Page détaillé
 e </a>
END:VEVENT
END:VCALENDAR
